BEGIN:VCALENDAR
VERSION:2.0
PRODID:-//Emilia Plater Polish School - ECPv6.15.20//NONSGML v1.0//EN
CALSCALE:GREGORIAN
METHOD:PUBLISH
X-ORIGINAL-URL:https://www.emiliaplater.org
X-WR-CALDESC:Events for Emilia Plater Polish School
REFRESH-INTERVAL;VALUE=DURATION:PT1H
X-Robots-Tag:noindex
X-PUBLISHED-TTL:PT1H
BEGIN:VTIMEZONE
TZID:America/Chicago
BEGIN:DAYLIGHT
TZOFFSETFROM:-0600
TZOFFSETTO:-0500
TZNAME:CDT
DTSTART:20240310T080000
END:DAYLIGHT
BEGIN:STANDARD
TZOFFSETFROM:-0500
TZOFFSETTO:-0600
TZNAME:CST
DTSTART:20241103T070000
END:STANDARD
BEGIN:DAYLIGHT
TZOFFSETFROM:-0600
TZOFFSETTO:-0500
TZNAME:CDT
DTSTART:20250309T080000
END:DAYLIGHT
BEGIN:STANDARD
TZOFFSETFROM:-0500
TZOFFSETTO:-0600
TZNAME:CST
DTSTART:20251102T070000
END:STANDARD
BEGIN:DAYLIGHT
TZOFFSETFROM:-0600
TZOFFSETTO:-0500
TZNAME:CDT
DTSTART:20260308T080000
END:DAYLIGHT
BEGIN:STANDARD
TZOFFSETFROM:-0500
TZOFFSETTO:-0600
TZNAME:CST
DTSTART:20261101T070000
END:STANDARD
END:VTIMEZONE
BEGIN:VEVENT
DTSTART;TZID=America/Chicago:20251005T130000
DTEND;TZID=America/Chicago:20251005T140000
DTSTAMP:20260423T150326
CREATED:20250916T192931Z
LAST-MODIFIED:20250916T192931Z
UID:53201-1759669200-1759672800@www.emiliaplater.org
SUMMARY:Msza Szkolna
DESCRIPTION:
URL:https://www.emiliaplater.org/event/msza-szkolna/
LOCATION:St. John the Evangelist Church\, 502 S Park Blvd\, Streamwood\, IL\, 60107-2100\, United States
END:VEVENT
BEGIN:VEVENT
DTSTART;TZID=America/Chicago:20251005T140000
DTEND;TZID=America/Chicago:20251005T150000
DTSTAMP:20260423T150326
CREATED:20250916T193151Z
LAST-MODIFIED:20250916T193359Z
UID:53203-1759672800-1759676400@www.emiliaplater.org
SUMMARY:Spotkanie informacyjne - Bierzmowanie
DESCRIPTION:Zapraszamy uczniów klas 8 wraz z rodzicami na spotkanie odnośnie Sakramentu Bierzmowania po mszy świętej o godzinie 1pm
URL:https://www.emiliaplater.org/event/spotkanie-informacyjne-bierzmowanie/
LOCATION:St. John the Evangelist Church\, 502 S Park Blvd\, Streamwood\, IL\, 60107-2100\, United States
END:VEVENT
BEGIN:VEVENT
DTSTART;TZID=America/Chicago:20251017T173000
DTEND;TZID=America/Chicago:20251017T181500
DTSTAMP:20260423T150326
CREATED:20250910T010635Z
LAST-MODIFIED:20250910T010635Z
UID:53018-1760722200-1760724900@www.emiliaplater.org
SUMMARY:Przyrzeczenie Zerówek PIĄTEK
DESCRIPTION:
URL:https://www.emiliaplater.org/event/przyrzeczenie-zerowek-piatek/
LOCATION:Emilia Plater Polish School (Parish Center)\, 502 S Park Blvd\, Streamwood\, IL\, 60107-2100\, United States
END:VEVENT
BEGIN:VEVENT
DTSTART;TZID=America/Chicago:20251018T093000
DTEND;TZID=America/Chicago:20251018T094500
DTSTAMP:20260423T150326
CREATED:20250910T010723Z
LAST-MODIFIED:20250910T010815Z
UID:53020-1760779800-1760780700@www.emiliaplater.org
SUMMARY:Przyrzeczenie Zerówek SOBOTA
DESCRIPTION:
URL:https://www.emiliaplater.org/event/przyrzeczenie-zerowek-sobota/
LOCATION:Emilia Plater Polish School (Parish Center)\, 502 S Park Blvd\, Streamwood\, IL\, 60107-2100\, United States
END:VEVENT
END:VCALENDAR