BEGIN:VCALENDAR
VERSION:2.0
PRODID:-//Emilia Plater Polish School - ECPv6.15.20//NONSGML v1.0//EN
CALSCALE:GREGORIAN
METHOD:PUBLISH
X-WR-CALNAME:Emilia Plater Polish School
X-ORIGINAL-URL:https://www.emiliaplater.org
X-WR-CALDESC:Events for Emilia Plater Polish School
REFRESH-INTERVAL;VALUE=DURATION:PT1H
X-Robots-Tag:noindex
X-PUBLISHED-TTL:PT1H
BEGIN:VTIMEZONE
TZID:America/Chicago
BEGIN:DAYLIGHT
TZOFFSETFROM:-0600
TZOFFSETTO:-0500
TZNAME:CDT
DTSTART:20220313T080000
END:DAYLIGHT
BEGIN:STANDARD
TZOFFSETFROM:-0500
TZOFFSETTO:-0600
TZNAME:CST
DTSTART:20221106T070000
END:STANDARD
BEGIN:DAYLIGHT
TZOFFSETFROM:-0600
TZOFFSETTO:-0500
TZNAME:CDT
DTSTART:20230312T080000
END:DAYLIGHT
BEGIN:STANDARD
TZOFFSETFROM:-0500
TZOFFSETTO:-0600
TZNAME:CST
DTSTART:20231105T070000
END:STANDARD
BEGIN:DAYLIGHT
TZOFFSETFROM:-0600
TZOFFSETTO:-0500
TZNAME:CDT
DTSTART:20240310T080000
END:DAYLIGHT
BEGIN:STANDARD
TZOFFSETFROM:-0500
TZOFFSETTO:-0600
TZNAME:CST
DTSTART:20241103T070000
END:STANDARD
END:VTIMEZONE
BEGIN:VEVENT
DTSTART;TZID=America/Chicago:20231006T170000
DTEND;TZID=America/Chicago:20231006T201500
DTSTAMP:20260424T213943
CREATED:20231020T102148Z
LAST-MODIFIED:20231020T102148Z
UID:42359-1696611600-1696623300@www.emiliaplater.org
SUMMARY:Zajęcia szkolne
DESCRIPTION:Klasy 9 i 10 mają zajęcia szkolne w każdy piątek od godziny 5pm do 9pm.
URL:https://www.emiliaplater.org/event/zajecia-szkolne-7/
END:VEVENT
BEGIN:VEVENT
DTSTART;TZID=America/Chicago:20231006T201500
DTEND;TZID=America/Chicago:20231006T210000
DTSTAMP:20260424T213943
CREATED:20231020T103332Z
LAST-MODIFIED:20231020T103332Z
UID:42361-1696623300-1696626000@www.emiliaplater.org
SUMMARY:Religia (nie dotyczy klas 9 i 10)
DESCRIPTION:
URL:https://www.emiliaplater.org/event/religia-nie-dotyczy-klas-9-i-10-2/
END:VEVENT
BEGIN:VEVENT
DTSTART;TZID=America/Chicago:20231011T180000
DTEND;TZID=America/Chicago:20231011T200000
DTSTAMP:20260424T213943
CREATED:20230812T172810Z
LAST-MODIFIED:20230812T172810Z
UID:41336-1697047200-1697054400@www.emiliaplater.org
SUMMARY:Walne Zebranie
DESCRIPTION:
URL:https://www.emiliaplater.org/event/walne-zebranie-4/
END:VEVENT
END:VCALENDAR