BEGIN:VCALENDAR
VERSION:2.0
PRODID:-//Emilia Plater Polish School - ECPv6.15.20//NONSGML v1.0//EN
CALSCALE:GREGORIAN
METHOD:PUBLISH
X-WR-CALNAME:Emilia Plater Polish School
X-ORIGINAL-URL:https://www.emiliaplater.org
X-WR-CALDESC:Events for Emilia Plater Polish School
REFRESH-INTERVAL;VALUE=DURATION:PT1H
X-Robots-Tag:noindex
X-PUBLISHED-TTL:PT1H
BEGIN:VTIMEZONE
TZID:America/Chicago
BEGIN:DAYLIGHT
TZOFFSETFROM:-0600
TZOFFSETTO:-0500
TZNAME:CDT
DTSTART:20210314T080000
END:DAYLIGHT
BEGIN:STANDARD
TZOFFSETFROM:-0500
TZOFFSETTO:-0600
TZNAME:CST
DTSTART:20211107T070000
END:STANDARD
BEGIN:DAYLIGHT
TZOFFSETFROM:-0600
TZOFFSETTO:-0500
TZNAME:CDT
DTSTART:20220313T080000
END:DAYLIGHT
BEGIN:STANDARD
TZOFFSETFROM:-0500
TZOFFSETTO:-0600
TZNAME:CST
DTSTART:20221106T070000
END:STANDARD
BEGIN:DAYLIGHT
TZOFFSETFROM:-0600
TZOFFSETTO:-0500
TZNAME:CDT
DTSTART:20230312T080000
END:DAYLIGHT
BEGIN:STANDARD
TZOFFSETFROM:-0500
TZOFFSETTO:-0600
TZNAME:CST
DTSTART:20231105T070000
END:STANDARD
END:VTIMEZONE
BEGIN:VEVENT
DTSTART;TZID=America/Chicago:20220909T000000
DTEND;TZID=America/Chicago:20220911T000000
DTSTAMP:20260425T191711
CREATED:20220916T175421Z
LAST-MODIFIED:20220916T191826Z
UID:37443-1662681600-1662854400@www.emiliaplater.org
SUMMARY:Początek roku szkolnego 2022/2023
DESCRIPTION:
URL:https://www.emiliaplater.org/event/poczatek-roku-szkolnego-2022-2023/
END:VEVENT
BEGIN:VEVENT
DTSTART;TZID=America/Chicago:20220916T200000
DTEND;TZID=America/Chicago:20220916T210000
DTSTAMP:20260425T191711
CREATED:20220916T175607Z
LAST-MODIFIED:20220916T191826Z
UID:37480-1663358400-1663362000@www.emiliaplater.org
SUMMARY:Zebrania z rodzicami klasy 0-4
DESCRIPTION:Zapraszamy wszystkich rodziców na zebranie ogólne o godzinie 8pm do szkolnej stołówki\, a nastepnie do klas 0-4.
URL:https://www.emiliaplater.org/event/zebrania-z-rodzicami-klasy-0-4/
END:VEVENT
BEGIN:VEVENT
DTSTART;TZID=America/Chicago:20220917T120000
DTEND;TZID=America/Chicago:20220917T130000
DTSTAMP:20260425T191711
CREATED:20220916T175607Z
LAST-MODIFIED:20220916T191826Z
UID:37481-1663416000-1663419600@www.emiliaplater.org
SUMMARY:Zebrania z rodzicami klasy 0-4
DESCRIPTION:Zapraszamy wszystkich rodzicow z klas 0-4 na spotkanie ogólne ogodzinie 12pm do szkolnej stołówki a potem do klas.
URL:https://www.emiliaplater.org/event/zebrania-z-rodzicami-klasy-0-4-2/
END:VEVENT
BEGIN:VEVENT
DTSTART;TZID=America/Chicago:20220923T200000
DTEND;TZID=America/Chicago:20220923T210000
DTSTAMP:20260425T191711
CREATED:20220916T175607Z
LAST-MODIFIED:20220916T191826Z
UID:37482-1663963200-1663966800@www.emiliaplater.org
SUMMARY:Zebrania z rodzicami klasy 5-11
DESCRIPTION:Zapraszamy rodzicow z klas 5-11 na zebranie ogólne do szkolnej stołówki a nastepnie do klas.
URL:https://www.emiliaplater.org/event/zebrania-z-rodzicami-klasy-5-11/
END:VEVENT
BEGIN:VEVENT
DTSTART;TZID=America/Chicago:20220924T120000
DTEND;TZID=America/Chicago:20220924T130000
DTSTAMP:20260425T191711
CREATED:20220916T175607Z
LAST-MODIFIED:20220916T191826Z
UID:37483-1664020800-1664024400@www.emiliaplater.org
SUMMARY:Zebrania z rodzicami klasy 5-11
DESCRIPTION:Zapraszamy na zebranie ogólne do szkolnej stołówki a nastepnie do klas
URL:https://www.emiliaplater.org/event/zebrania-z-rodzicami-klasy-5-11-2/
END:VEVENT
END:VCALENDAR