BEGIN:VCALENDAR
VERSION:2.0
PRODID:-//Emilia Plater Polish School - ECPv6.15.20//NONSGML v1.0//EN
CALSCALE:GREGORIAN
METHOD:PUBLISH
X-WR-CALNAME:Emilia Plater Polish School
X-ORIGINAL-URL:https://www.emiliaplater.org
X-WR-CALDESC:Events for Emilia Plater Polish School
REFRESH-INTERVAL;VALUE=DURATION:PT1H
X-Robots-Tag:noindex
X-PUBLISHED-TTL:PT1H
BEGIN:VTIMEZONE
TZID:America/Chicago
BEGIN:DAYLIGHT
TZOFFSETFROM:-0600
TZOFFSETTO:-0500
TZNAME:CDT
DTSTART:20230312T080000
END:DAYLIGHT
BEGIN:STANDARD
TZOFFSETFROM:-0500
TZOFFSETTO:-0600
TZNAME:CST
DTSTART:20231105T070000
END:STANDARD
BEGIN:DAYLIGHT
TZOFFSETFROM:-0600
TZOFFSETTO:-0500
TZNAME:CDT
DTSTART:20240310T080000
END:DAYLIGHT
BEGIN:STANDARD
TZOFFSETFROM:-0500
TZOFFSETTO:-0600
TZNAME:CST
DTSTART:20241103T070000
END:STANDARD
BEGIN:DAYLIGHT
TZOFFSETFROM:-0600
TZOFFSETTO:-0500
TZNAME:CDT
DTSTART:20250309T080000
END:DAYLIGHT
BEGIN:STANDARD
TZOFFSETFROM:-0500
TZOFFSETTO:-0600
TZNAME:CST
DTSTART:20251102T070000
END:STANDARD
END:VTIMEZONE
BEGIN:VEVENT
DTSTART;TZID=America/Chicago:20241004T170000
DTEND;TZID=America/Chicago:20241004T201500
DTSTAMP:20260424T062451
CREATED:20240911T131825Z
LAST-MODIFIED:20240911T131825Z
UID:46592-1728061200-1728072900@www.emiliaplater.org
SUMMARY:Zajęcia szkolne PIĄTEK
DESCRIPTION:
URL:https://www.emiliaplater.org/event/zajecia-szkolne-piatek-4/
LOCATION:Emilia Plater Polish School
END:VEVENT
BEGIN:VEVENT
DTSTART;TZID=America/Chicago:20240928T201500
DTEND;TZID=America/Chicago:20240928T210000
DTSTAMP:20260424T062451
CREATED:20240911T134914Z
LAST-MODIFIED:20240911T134914Z
UID:46663-1727554500-1727557200@www.emiliaplater.org
SUMMARY:Zajęcia religii PIĄTEK
DESCRIPTION:
URL:https://www.emiliaplater.org/event/zajecia-religii-piatek-3/
LOCATION:Emilia Plater Polish School
END:VEVENT
BEGIN:VEVENT
DTSTART;TZID=America/Chicago:20240928T121500
DTEND;TZID=America/Chicago:20240928T130000
DTSTAMP:20260424T062451
CREATED:20240911T134336Z
LAST-MODIFIED:20240911T134336Z
UID:46641-1727525700-1727528400@www.emiliaplater.org
SUMMARY:Zajęcia religii SOBOTA
DESCRIPTION:
URL:https://www.emiliaplater.org/event/zajecia-religii-sobota-3/
LOCATION:Emilia Plater Polish School
END:VEVENT
BEGIN:VEVENT
DTSTART;TZID=America/Chicago:20240928T090000
DTEND;TZID=America/Chicago:20240928T213000
DTSTAMP:20260424T062451
CREATED:20240910T170228Z
LAST-MODIFIED:20240910T170228Z
UID:46525-1727514000-1727559000@www.emiliaplater.org
SUMMARY:Zebrania rodziców klas 4-latki-kl.4
DESCRIPTION:Zebranie w klasie of godz 9:00am-9:20am\, a następnie zebranie ogólne w kafeterii szkolnej
URL:https://www.emiliaplater.org/event/zebrania-rodzicow-klas-4-latki-kl-4/
LOCATION:Emilia Plater Polish School
END:VEVENT
BEGIN:VEVENT
DTSTART;TZID=America/Chicago:20240928T090000
DTEND;TZID=America/Chicago:20240928T121500
DTSTAMP:20260424T062451
CREATED:20240911T132825Z
LAST-MODIFIED:20240911T132825Z
UID:46617-1727514000-1727525700@www.emiliaplater.org
SUMMARY:Zajęcia szkolne SOBOTA
DESCRIPTION:
URL:https://www.emiliaplater.org/event/zajecia-szkolne-sobota-3/
LOCATION:Emilia Plater Polish School
END:VEVENT
BEGIN:VEVENT
DTSTART;VALUE=DATE:20240928
DTEND;VALUE=DATE:20240929
DTSTAMP:20260424T062451
CREATED:20240815T011039Z
LAST-MODIFIED:20240911T141919Z
UID:46332-1727481600-1727567999@www.emiliaplater.org
SUMMARY:Liceum kl. 9 ma WOLNE
DESCRIPTION:
URL:https://www.emiliaplater.org/event/liceum-kl-9-11-ma-wolne-2/
END:VEVENT
BEGIN:VEVENT
DTSTART;TZID=America/Chicago:20240927T170000
DTEND;TZID=America/Chicago:20240927T201500
DTSTAMP:20260424T062451
CREATED:20240911T131753Z
LAST-MODIFIED:20240911T131753Z
UID:46590-1727456400-1727468100@www.emiliaplater.org
SUMMARY:Zajęcia szkolne PIĄTEK
DESCRIPTION:
URL:https://www.emiliaplater.org/event/zajecia-szkolne-piatek-3/
LOCATION:Emilia Plater Polish School
END:VEVENT
BEGIN:VEVENT
DTSTART;TZID=America/Chicago:20240927T170000
DTEND;TZID=America/Chicago:20240927T173000
DTSTAMP:20260424T062451
CREATED:20240910T165541Z
LAST-MODIFIED:20240910T165541Z
UID:46517-1727456400-1727458200@www.emiliaplater.org
SUMMARY:Zebranie rodzicow klas 0-4
DESCRIPTION:Zebranie w klasie of godz 5:00pm-5:20pm\, a nastepnie zebranie ogolne w kafeterii szkolnej
URL:https://www.emiliaplater.org/event/zebranie-rodzicow-klas-0-4/
END:VEVENT
BEGIN:VEVENT
DTSTART;VALUE=DATE:20240927
DTEND;VALUE=DATE:20240928
DTSTAMP:20260424T062451
CREATED:20240815T011021Z
LAST-MODIFIED:20240815T011021Z
UID:46330-1727395200-1727481599@www.emiliaplater.org
SUMMARY:Liceum (kl. 9-11) ma WOLNE
DESCRIPTION:
URL:https://www.emiliaplater.org/event/liceum-kl-9-11-ma-wolne/
END:VEVENT
BEGIN:VEVENT
DTSTART;TZID=America/Chicago:20240921T121500
DTEND;TZID=America/Chicago:20240921T130000
DTSTAMP:20260424T062451
CREATED:20240911T134307Z
LAST-MODIFIED:20240911T134307Z
UID:46639-1726920900-1726923600@www.emiliaplater.org
SUMMARY:Zajęcia religii SOBOTA
DESCRIPTION:
URL:https://www.emiliaplater.org/event/zajecia-religii-sobota-2/
LOCATION:Emilia Plater Polish School
END:VEVENT
BEGIN:VEVENT
DTSTART;TZID=America/Chicago:20240921T090000
DTEND;TZID=America/Chicago:20240921T213000
DTSTAMP:20260424T062451
CREATED:20240910T170106Z
LAST-MODIFIED:20240910T170350Z
UID:46523-1726909200-1726954200@www.emiliaplater.org
SUMMARY:Zebrania rodziców klas 5-9
DESCRIPTION:Zebranie w klasie of godz 9:00am-9:20am\, a następnie zebranie ogólne w kafeterii szkolnej
URL:https://www.emiliaplater.org/event/zebrania-rodzicow-klas-5-11/
LOCATION:Emilia Plater Polish School
END:VEVENT
BEGIN:VEVENT
DTSTART;TZID=America/Chicago:20240921T090000
DTEND;TZID=America/Chicago:20240921T121500
DTSTAMP:20260424T062451
CREATED:20240911T132802Z
LAST-MODIFIED:20240911T132802Z
UID:46615-1726909200-1726920900@www.emiliaplater.org
SUMMARY:Zajęcia szkolne SOBOTA
DESCRIPTION:
URL:https://www.emiliaplater.org/event/zajecia-szkolne-sobota-2/
LOCATION:Emilia Plater Polish School
END:VEVENT
BEGIN:VEVENT
DTSTART;TZID=America/Chicago:20240920T201500
DTEND;TZID=America/Chicago:20240920T210000
DTSTAMP:20260424T062451
CREATED:20240911T134853Z
LAST-MODIFIED:20240911T134853Z
UID:46661-1726863300-1726866000@www.emiliaplater.org
SUMMARY:Zajęcia religii PIĄTEK
DESCRIPTION:
URL:https://www.emiliaplater.org/event/zajecia-religii-piatek-2/
LOCATION:Emilia Plater Polish School
END:VEVENT
BEGIN:VEVENT
DTSTART;TZID=America/Chicago:20240920T170000
DTEND;TZID=America/Chicago:20240920T201500
DTSTAMP:20260424T062451
CREATED:20240911T131723Z
LAST-MODIFIED:20240911T131723Z
UID:46588-1726851600-1726863300@www.emiliaplater.org
SUMMARY:Zajęcia szkolne PIĄTEK
DESCRIPTION:
URL:https://www.emiliaplater.org/event/zajecia-szkolne-piatek-2/
LOCATION:Emilia Plater Polish School
END:VEVENT
BEGIN:VEVENT
DTSTART;TZID=America/Chicago:20240920T170000
DTEND;TZID=America/Chicago:20240920T173000
DTSTAMP:20260424T062451
CREATED:20240910T170011Z
LAST-MODIFIED:20240910T170011Z
UID:46520-1726851600-1726853400@www.emiliaplater.org
SUMMARY:Zebranie rodziców klas 5-11
DESCRIPTION:Zebranie w klasie of godz 5:00pm-5:20pm\, a nastepnie zebranie ogolne w kafeterii szkolnej
URL:https://www.emiliaplater.org/event/zebranie-rodzicow-klas-5-11/
LOCATION:Emilia Plater Polish School
END:VEVENT
BEGIN:VEVENT
DTSTART;TZID=America/Chicago:20240914T090000
DTEND;TZID=America/Chicago:20240914T121500
DTSTAMP:20260424T062451
CREATED:20240814T195447Z
LAST-MODIFIED:20240814T195447Z
UID:46292-1726304400-1726316100@www.emiliaplater.org
SUMMARY:Zajecia szkolne SOBOTA
DESCRIPTION:
URL:https://www.emiliaplater.org/event/zajecia-szkolne-sobota/
END:VEVENT
BEGIN:VEVENT
DTSTART;TZID=America/Chicago:20240914T001500
DTEND;TZID=America/Chicago:20240914T130000
DTSTAMP:20260424T062451
CREATED:20240814T195545Z
LAST-MODIFIED:20240814T195545Z
UID:46294-1726272900-1726318800@www.emiliaplater.org
SUMMARY:Zajecia religii SOBOTA
DESCRIPTION:
URL:https://www.emiliaplater.org/event/zajecia-religii-sobota/
END:VEVENT
BEGIN:VEVENT
DTSTART;TZID=America/Chicago:20240913T201500
DTEND;TZID=America/Chicago:20240913T210000
DTSTAMP:20260424T062451
CREATED:20240814T195101Z
LAST-MODIFIED:20240814T195101Z
UID:46290-1726258500-1726261200@www.emiliaplater.org
SUMMARY:Zajecia religii PIATEK
DESCRIPTION:
URL:https://www.emiliaplater.org/event/zajecia-religii-piatek/
LOCATION:Emilia Plater Polish School
END:VEVENT
BEGIN:VEVENT
DTSTART;TZID=America/Chicago:20240913T170000
DTEND;TZID=America/Chicago:20240913T201500
DTSTAMP:20260424T062451
CREATED:20240814T195010Z
LAST-MODIFIED:20240814T195010Z
UID:46287-1726246800-1726258500@www.emiliaplater.org
SUMMARY:Zajecia szkolne PIATEK
DESCRIPTION:
URL:https://www.emiliaplater.org/event/zajecia-szkolne-piatek/
LOCATION:Emilia Plater Polish School
END:VEVENT
BEGIN:VEVENT
DTSTART;TZID=America/Chicago:20240907T110000
DTEND;TZID=America/Chicago:20240907T140000
DTSTAMP:20260424T062451
CREATED:20240814T192501Z
LAST-MODIFIED:20240814T214524Z
UID:46269-1725706800-1725717600@www.emiliaplater.org
SUMMARY:Piknik Szkolny
DESCRIPTION:Zapraszamy wszystkich uczniow z rodzinami na szkolny piknik z okazji 50- lecia naszej szkoly. Bedzie to oficjalny pierwszy dzien nowego roku szkolnego dla uczniow piatkowych i sobotnich. \nGry\, zabawy oraz darmowy lunch dla uczniow naszej szkoly!!! \n  \nDo zobaczenia
URL:https://www.emiliaplater.org/event/piknik-szkolny/
LOCATION:Emilia Plater Polish School (Parking)
ORGANIZER;CN="Emilia Plater Polish School":MAILTO:contact@emiliaplater.org
END:VEVENT
BEGIN:VEVENT
DTSTART;TZID=America/Chicago:20240907T100000
DTEND;TZID=America/Chicago:20240907T110000
DTSTAMP:20260424T062451
CREATED:20240814T215041Z
LAST-MODIFIED:20240814T215041Z
UID:46296-1725703200-1725706800@www.emiliaplater.org
SUMMARY:Msza Szkolna Inaugurująca 50-lecie szkoły
DESCRIPTION:
URL:https://www.emiliaplater.org/event/msza-szkolna-inaugurujaca-50-lecie-szkoly/
LOCATION:St. John the Evangelist Church\, 502 S Park Blvd\, Streamwood\, IL\, 60107-2100\, United States
END:VEVENT
BEGIN:VEVENT
DTSTART;TZID=America/Chicago:20240821T193000
DTEND;TZID=America/Chicago:20240821T203000
DTSTAMP:20260424T062451
CREATED:20240814T194016Z
LAST-MODIFIED:20240814T194024Z
UID:46283-1724268600-1724272200@www.emiliaplater.org
SUMMARY:Odbior podrecznikow i ID szkolnych: kl.5-11
DESCRIPTION:
URL:https://www.emiliaplater.org/event/odbior-podrecznikow-i-id-szkolnych-kl-5-11/
LOCATION:Emilia Plater Polish School (Parish Center)\, 502 S Park Blvd\, Streamwood\, IL\, 60107-2100\, United States
END:VEVENT
BEGIN:VEVENT
DTSTART;TZID=America/Chicago:20240821T183000
DTEND;TZID=America/Chicago:20240821T200000
DTSTAMP:20260424T062451
CREATED:20240814T193938Z
LAST-MODIFIED:20240814T194045Z
UID:46281-1724265000-1724270400@www.emiliaplater.org
SUMMARY:Odbior podrecznikow i ID szkolnych: 4-latki-kl.4
DESCRIPTION:
URL:https://www.emiliaplater.org/event/odbior-podrecznikow-i-id-szkolnych-4-latki-kl-4/
LOCATION:Emilia Plater Polish School (Parish Center)\, 502 S Park Blvd\, Streamwood\, IL\, 60107-2100\, United States
END:VEVENT
BEGIN:VEVENT
DTSTART;TZID=America/Chicago:20240518T093000
DTEND;TZID=America/Chicago:20240518T233000
DTSTAMP:20260424T062451
CREATED:20240419T183750Z
LAST-MODIFIED:20240422T152542Z
UID:45808-1716024600-1716075000@www.emiliaplater.org
SUMMARY:Graduacja klas 8 i 11
DESCRIPTION:
URL:https://www.emiliaplater.org/event/graduacja-klas-8-i-11/
LOCATION:Emilia Plater Polish School (Parish Center)\, 502 S Park Blvd\, Streamwood\, IL\, 60107-2100\, United States
END:VEVENT
BEGIN:VEVENT
DTSTART;TZID=America/Chicago:20240518T090000
DTEND;TZID=America/Chicago:20240518T100000
DTSTAMP:20260424T062451
CREATED:20240419T184111Z
LAST-MODIFIED:20240422T152652Z
UID:45816-1716022800-1716026400@www.emiliaplater.org
SUMMARY:Ostanie zajęcia szkolne SOBOTA
DESCRIPTION:Rozdanie świadectw oraz pożegnanie z nauczycielem od godz 9am -10am
URL:https://www.emiliaplater.org/event/ostanie-zajecia-szkolne-sobota/
END:VEVENT
BEGIN:VEVENT
DTSTART;TZID=America/Chicago:20240517T170000
DTEND;TZID=America/Chicago:20240517T180000
DTSTAMP:20260424T062451
CREATED:20240419T184035Z
LAST-MODIFIED:20240422T152613Z
UID:45814-1715965200-1715968800@www.emiliaplater.org
SUMMARY:Ostatnie zajęcia szkolne PIĄTEK
DESCRIPTION:Rozdanie świadectw oraz pożegnanie z nauczycielem od godz 5pm -6pm
URL:https://www.emiliaplater.org/event/ostatnie-zajecia-szkolne-piatek/
END:VEVENT
BEGIN:VEVENT
DTSTART;VALUE=DATE:20240428
DTEND;VALUE=DATE:20240429
DTSTAMP:20260424T062451
CREATED:20240419T183925Z
LAST-MODIFIED:20240419T183925Z
UID:45812-1714262400-1714348799@www.emiliaplater.org
SUMMARY:Ostatnie zajęcia religii SOBOTA
DESCRIPTION:
URL:https://www.emiliaplater.org/event/ostatnie-zajecia-religii-sobota/
END:VEVENT
BEGIN:VEVENT
DTSTART;TZID=America/Chicago:20240427T091500
DTEND;TZID=America/Chicago:20240427T101500
DTSTAMP:20260424T062451
CREATED:20240422T153109Z
LAST-MODIFIED:20240422T153109Z
UID:45923-1714209300-1714212900@www.emiliaplater.org
SUMMARY:Akademia z okazji Dnia Mamy i Taty SOBOTA
DESCRIPTION:
URL:https://www.emiliaplater.org/event/akademia-z-okazji-dnia-mamy-i-taty-sobota/
END:VEVENT
BEGIN:VEVENT
DTSTART;VALUE=DATE:20240427
DTEND;VALUE=DATE:20240428
DTSTAMP:20260424T062451
CREATED:20240419T183843Z
LAST-MODIFIED:20240419T183843Z
UID:45810-1714176000-1714262399@www.emiliaplater.org
SUMMARY:Ostatnie zajęcia religii PIĄTEK
DESCRIPTION:
URL:https://www.emiliaplater.org/event/ostatnie-zajecia-religii-piatek/
END:VEVENT
BEGIN:VEVENT
DTSTART;TZID=America/Chicago:20240426T190000
DTEND;TZID=America/Chicago:20240426T200000
DTSTAMP:20260424T062451
CREATED:20240422T153017Z
LAST-MODIFIED:20240422T153017Z
UID:45919-1714158000-1714161600@www.emiliaplater.org
SUMMARY:Akademia z okazji Dnia Mamy i Taty PIĄTEK
DESCRIPTION:
URL:https://www.emiliaplater.org/event/akademia-z-okazji-dnia-mamy-i-taty-piatek/
END:VEVENT
END:VCALENDAR