BEGIN:VCALENDAR
VERSION:2.0
PRODID:-//Emilia Plater Polish School - ECPv6.15.20//NONSGML v1.0//EN
CALSCALE:GREGORIAN
METHOD:PUBLISH
X-WR-CALNAME:Emilia Plater Polish School
X-ORIGINAL-URL:https://www.emiliaplater.org
X-WR-CALDESC:Events for Emilia Plater Polish School
REFRESH-INTERVAL;VALUE=DURATION:PT1H
X-Robots-Tag:noindex
X-PUBLISHED-TTL:PT1H
BEGIN:VTIMEZONE
TZID:America/Chicago
BEGIN:DAYLIGHT
TZOFFSETFROM:-0600
TZOFFSETTO:-0500
TZNAME:CDT
DTSTART:20180311T080000
END:DAYLIGHT
BEGIN:STANDARD
TZOFFSETFROM:-0500
TZOFFSETTO:-0600
TZNAME:CST
DTSTART:20181104T070000
END:STANDARD
BEGIN:DAYLIGHT
TZOFFSETFROM:-0600
TZOFFSETTO:-0500
TZNAME:CDT
DTSTART:20190310T080000
END:DAYLIGHT
BEGIN:STANDARD
TZOFFSETFROM:-0500
TZOFFSETTO:-0600
TZNAME:CST
DTSTART:20191103T070000
END:STANDARD
BEGIN:DAYLIGHT
TZOFFSETFROM:-0600
TZOFFSETTO:-0500
TZNAME:CDT
DTSTART:20200308T080000
END:DAYLIGHT
BEGIN:STANDARD
TZOFFSETFROM:-0500
TZOFFSETTO:-0600
TZNAME:CST
DTSTART:20201101T070000
END:STANDARD
BEGIN:DAYLIGHT
TZOFFSETFROM:-0600
TZOFFSETTO:-0500
TZNAME:CDT
DTSTART:20210314T080000
END:DAYLIGHT
BEGIN:STANDARD
TZOFFSETFROM:-0500
TZOFFSETTO:-0600
TZNAME:CST
DTSTART:20211107T070000
END:STANDARD
END:VTIMEZONE
BEGIN:VEVENT
DTSTART;TZID=America/Chicago:20200201T180000
DTEND;TZID=America/Chicago:20200202T013000
DTSTAMP:20260425T062624
CREATED:20220916T175438Z
LAST-MODIFIED:20220916T192926Z
UID:37453-1580580000-1580607000@www.emiliaplater.org
SUMMARY:Bal Szkolny – Annual Fundrising Gala
DESCRIPTION:
URL:https://www.emiliaplater.org/event/bal-szkolny-annual-fundrising-gala/
END:VEVENT
BEGIN:VEVENT
DTSTART;TZID=America/Chicago:20200103T000000
DTEND;TZID=America/Chicago:20200105T000000
DTSTAMP:20260425T062624
CREATED:20220916T175419Z
LAST-MODIFIED:20220916T192951Z
UID:37437-1578009600-1578182400@www.emiliaplater.org
SUMMARY:NIE MA ZAJĘĆ – Nowy Rok
DESCRIPTION:
URL:https://www.emiliaplater.org/event/nie-ma-zajec-nowy-rok/
END:VEVENT
BEGIN:VEVENT
DTSTART;TZID=America/Chicago:20191227T000000
DTEND;TZID=America/Chicago:20191229T000000
DTSTAMP:20260425T062624
CREATED:20220916T175419Z
LAST-MODIFIED:20220916T192951Z
UID:37436-1577404800-1577577600@www.emiliaplater.org
SUMMARY:NIE MA ZAJĘĆ – Boże Narodzenie
DESCRIPTION:
URL:https://www.emiliaplater.org/event/nie-ma-zajec-boze-narodzenie/
END:VEVENT
BEGIN:VEVENT
DTSTART;TZID=America/Chicago:20191129T000000
DTEND;TZID=America/Chicago:20191201T000000
DTSTAMP:20260425T062624
CREATED:20220916T175419Z
LAST-MODIFIED:20220916T192951Z
UID:37435-1574985600-1575158400@www.emiliaplater.org
SUMMARY:NIE MA ZAJĘĆ- Święto Dziękczynienia
DESCRIPTION:
URL:https://www.emiliaplater.org/event/nie-ma-zajec-swieto-dziekczynienia/
END:VEVENT
BEGIN:VEVENT
DTSTART;TZID=America/Chicago:20191116T131500
DTEND;TZID=America/Chicago:20191116T150000
DTSTAMP:20260425T062624
CREATED:20220916T175438Z
LAST-MODIFIED:20220916T192952Z
UID:37452-1573910100-1573916400@www.emiliaplater.org
SUMMARY:Walne Zebranie
DESCRIPTION:
URL:https://www.emiliaplater.org/event/walne-zebranie/
END:VEVENT
BEGIN:VEVENT
DTSTART;TZID=America/Chicago:20191102T113000
DTEND;TZID=America/Chicago:20191102T123000
DTSTAMP:20260425T062624
CREATED:20220916T175438Z
LAST-MODIFIED:20220916T192952Z
UID:37451-1572694200-1572697800@www.emiliaplater.org
SUMMARY:Ślubowanie pierwszoklasistów
DESCRIPTION:
URL:https://www.emiliaplater.org/event/slubowanie-pierwszoklasistow-2/
END:VEVENT
BEGIN:VEVENT
DTSTART;TZID=America/Chicago:20191101T193000
DTEND;TZID=America/Chicago:20191101T203000
DTSTAMP:20260425T062624
CREATED:20220916T175438Z
LAST-MODIFIED:20220916T192952Z
UID:37450-1572636600-1572640200@www.emiliaplater.org
SUMMARY:Ślubowanie pierwszoklasistów
DESCRIPTION:
URL:https://www.emiliaplater.org/event/slubowanie-pierwszoklasistow/
END:VEVENT
BEGIN:VEVENT
DTSTART;TZID=America/Chicago:20191025T000000
DTEND;TZID=America/Chicago:20191027T000000
DTSTAMP:20260425T062624
CREATED:20220916T175419Z
LAST-MODIFIED:20220916T192952Z
UID:37434-1571961600-1572134400@www.emiliaplater.org
SUMMARY:Dzień Dwujęzyczności
DESCRIPTION:Zachecamy wszystkich uczniów do ubrania kolorów narodowych
URL:https://www.emiliaplater.org/event/dzien-dwujezycznosci/
END:VEVENT
BEGIN:VEVENT
DTSTART;TZID=America/Chicago:20191019T113000
DTEND;TZID=America/Chicago:20191019T123000
DTSTAMP:20260425T062624
CREATED:20220916T175438Z
LAST-MODIFIED:20220916T192952Z
UID:37449-1571484600-1571488200@www.emiliaplater.org
SUMMARY:Przyrzeczenie zerówki
DESCRIPTION:
URL:https://www.emiliaplater.org/event/przyrzeczenie-zerowki-2/
END:VEVENT
BEGIN:VEVENT
DTSTART;TZID=America/Chicago:20191018T200000
DTEND;TZID=America/Chicago:20191018T210000
DTSTAMP:20260425T062624
CREATED:20220916T175422Z
LAST-MODIFIED:20220916T192952Z
UID:37448-1571428800-1571432400@www.emiliaplater.org
SUMMARY:Przyrzeczenie zerówki
DESCRIPTION:
URL:https://www.emiliaplater.org/event/przyrzeczenie-zerowki/
END:VEVENT
BEGIN:VEVENT
DTSTART;TZID=America/Chicago:20190927T194500
DTEND;TZID=America/Chicago:20190927T204500
DTSTAMP:20260425T062624
CREATED:20220916T175422Z
LAST-MODIFIED:20220916T192952Z
UID:37447-1569613500-1569617100@www.emiliaplater.org
SUMMARY:Dyskusja nad zmianami do Statutu Szkoły
DESCRIPTION:
URL:https://www.emiliaplater.org/event/dyskusja-nad-zmianami-do-statutu-szkoly/
END:VEVENT
BEGIN:VEVENT
DTSTART;TZID=America/Chicago:20190921T123000
DTEND;TZID=America/Chicago:20190921T130000
DTSTAMP:20260425T062624
CREATED:20220916T175422Z
LAST-MODIFIED:20220916T192952Z
UID:37446-1569069000-1569070800@www.emiliaplater.org
SUMMARY:Zebrania z rodzicami
DESCRIPTION:
URL:https://www.emiliaplater.org/event/zebrania-z-rodzicami-2/
END:VEVENT
BEGIN:VEVENT
DTSTART;TZID=America/Chicago:20190920T203000
DTEND;TZID=America/Chicago:20190920T210000
DTSTAMP:20260425T062624
CREATED:20220916T175422Z
LAST-MODIFIED:20220916T192952Z
UID:37445-1569011400-1569013200@www.emiliaplater.org
SUMMARY:Zebrania z rodzicami
DESCRIPTION:
URL:https://www.emiliaplater.org/event/zebrania-z-rodzicami/
END:VEVENT
END:VCALENDAR