BEGIN:VCALENDAR
VERSION:2.0
PRODID:-//Emilia Plater Polish School - ECPv6.15.20//NONSGML v1.0//EN
CALSCALE:GREGORIAN
METHOD:PUBLISH
X-WR-CALNAME:Emilia Plater Polish School
X-ORIGINAL-URL:https://www.emiliaplater.org
X-WR-CALDESC:Events for Emilia Plater Polish School
REFRESH-INTERVAL;VALUE=DURATION:PT1H
X-Robots-Tag:noindex
X-PUBLISHED-TTL:PT1H
BEGIN:VTIMEZONE
TZID:America/Chicago
BEGIN:DAYLIGHT
TZOFFSETFROM:-0600
TZOFFSETTO:-0500
TZNAME:CDT
DTSTART:20230312T080000
END:DAYLIGHT
BEGIN:STANDARD
TZOFFSETFROM:-0500
TZOFFSETTO:-0600
TZNAME:CST
DTSTART:20231105T070000
END:STANDARD
BEGIN:DAYLIGHT
TZOFFSETFROM:-0600
TZOFFSETTO:-0500
TZNAME:CDT
DTSTART:20240310T080000
END:DAYLIGHT
BEGIN:STANDARD
TZOFFSETFROM:-0500
TZOFFSETTO:-0600
TZNAME:CST
DTSTART:20241103T070000
END:STANDARD
BEGIN:DAYLIGHT
TZOFFSETFROM:-0600
TZOFFSETTO:-0500
TZNAME:CDT
DTSTART:20250309T080000
END:DAYLIGHT
BEGIN:STANDARD
TZOFFSETFROM:-0500
TZOFFSETTO:-0600
TZNAME:CST
DTSTART:20251102T070000
END:STANDARD
END:VTIMEZONE
BEGIN:VEVENT
DTSTART;TZID=America/Chicago:20241213T170000
DTEND;TZID=America/Chicago:20241213T201500
DTSTAMP:20260423T152301
CREATED:20240911T132338Z
LAST-MODIFIED:20240911T132338Z
UID:46608-1734109200-1734120900@www.emiliaplater.org
SUMMARY:Zajęcia szkolne PIĄTEK
DESCRIPTION:
URL:https://www.emiliaplater.org/event/zajecia-szkolne-piatek-12/
LOCATION:Emilia Plater Polish School
END:VEVENT
BEGIN:VEVENT
DTSTART;TZID=America/Chicago:20241207T121500
DTEND;TZID=America/Chicago:20241207T130000
DTSTAMP:20260423T152301
CREATED:20240911T134741Z
LAST-MODIFIED:20240911T134741Z
UID:46657-1733573700-1733576400@www.emiliaplater.org
SUMMARY:Zajęcia religii SOBOTA
DESCRIPTION:
URL:https://www.emiliaplater.org/event/zajecia-religii-sobota-11/
LOCATION:Emilia Plater Polish School
END:VEVENT
BEGIN:VEVENT
DTSTART;TZID=America/Chicago:20241207T090000
DTEND;TZID=America/Chicago:20241207T121500
DTSTAMP:20260423T152301
CREATED:20240911T133206Z
LAST-MODIFIED:20240911T133206Z
UID:46633-1733562000-1733573700@www.emiliaplater.org
SUMMARY:Zajęcia szkolne SOBOTA
DESCRIPTION:
URL:https://www.emiliaplater.org/event/zajecia-szkolne-sobota-11/
LOCATION:Emilia Plater Polish School
END:VEVENT
BEGIN:VEVENT
DTSTART;TZID=America/Chicago:20241206T201500
DTEND;TZID=America/Chicago:20241206T210000
DTSTAMP:20260423T152301
CREATED:20240911T135321Z
LAST-MODIFIED:20240911T135321Z
UID:46683-1733516100-1733518800@www.emiliaplater.org
SUMMARY:Zajęcia religii PIĄTEK
DESCRIPTION:
URL:https://www.emiliaplater.org/event/zajecia-religii-piatek-13/
LOCATION:Emilia Plater Polish School
END:VEVENT
BEGIN:VEVENT
DTSTART;TZID=America/Chicago:20241206T170000
DTEND;TZID=America/Chicago:20241206T201500
DTSTAMP:20260423T152301
CREATED:20240911T132305Z
LAST-MODIFIED:20240911T132305Z
UID:46606-1733504400-1733516100@www.emiliaplater.org
SUMMARY:Zajęcia szkolne PIĄTEK
DESCRIPTION:
URL:https://www.emiliaplater.org/event/zajecia-szkolne-piatek-11/
LOCATION:Emilia Plater Polish School
END:VEVENT
BEGIN:VEVENT
DTSTART;VALUE=DATE:20241130
DTEND;VALUE=DATE:20241201
DTSTAMP:20260423T152301
CREATED:20240815T005951Z
LAST-MODIFIED:20240815T005951Z
UID:46304-1732924800-1733011199@www.emiliaplater.org
SUMMARY:Nie ma zajęć - WOLNE
DESCRIPTION:
URL:https://www.emiliaplater.org/event/nie-ma-zajec-wolne-4/
END:VEVENT
BEGIN:VEVENT
DTSTART;VALUE=DATE:20241129
DTEND;VALUE=DATE:20241130
DTSTAMP:20260423T152301
CREATED:20240815T005921Z
LAST-MODIFIED:20240815T005921Z
UID:46302-1732838400-1732924799@www.emiliaplater.org
SUMMARY:Nie ma zajęć - WOLNE
DESCRIPTION:Thanksgiving Break
URL:https://www.emiliaplater.org/event/nie-ma-zajec-wolne-3/
END:VEVENT
BEGIN:VEVENT
DTSTART;TZID=America/Chicago:20241123T121500
DTEND;TZID=America/Chicago:20241123T130000
DTSTAMP:20260423T152301
CREATED:20240911T134714Z
LAST-MODIFIED:20240911T135610Z
UID:46655-1732364100-1732366800@www.emiliaplater.org
SUMMARY:Zajęcia religii SOBOTA
DESCRIPTION:
URL:https://www.emiliaplater.org/event/zajecia-religii-sobota-10/
LOCATION:Emilia Plater Polish School
END:VEVENT
BEGIN:VEVENT
DTSTART;TZID=America/Chicago:20241123T090000
DTEND;TZID=America/Chicago:20241123T121500
DTSTAMP:20260423T152301
CREATED:20240911T133136Z
LAST-MODIFIED:20240911T133136Z
UID:46631-1732352400-1732364100@www.emiliaplater.org
SUMMARY:Zajęcia szkolne SOBOTA
DESCRIPTION:
URL:https://www.emiliaplater.org/event/zajecia-szkolne-sobota-10/
LOCATION:Emilia Plater Polish School
END:VEVENT
BEGIN:VEVENT
DTSTART;TZID=America/Chicago:20241122T201500
DTEND;TZID=America/Chicago:20241122T210000
DTSTAMP:20260423T152301
CREATED:20240911T135258Z
LAST-MODIFIED:20240911T135258Z
UID:46681-1732306500-1732309200@www.emiliaplater.org
SUMMARY:Zajęcia religii PIĄTEK
DESCRIPTION:
URL:https://www.emiliaplater.org/event/zajecia-religii-piatek-12/
LOCATION:Emilia Plater Polish School
END:VEVENT
BEGIN:VEVENT
DTSTART;TZID=America/Chicago:20241122T170000
DTEND;TZID=America/Chicago:20241122T201500
DTSTAMP:20260423T152301
CREATED:20240911T132234Z
LAST-MODIFIED:20240911T132234Z
UID:46604-1732294800-1732306500@www.emiliaplater.org
SUMMARY:Zajęcia szkolne PIĄTEK
DESCRIPTION:
URL:https://www.emiliaplater.org/event/zajecia-szkolne-piatek-10/
LOCATION:Emilia Plater Polish School
END:VEVENT
BEGIN:VEVENT
DTSTART;TZID=America/Chicago:20241120T183000
DTEND;TZID=America/Chicago:20241120T210000
DTSTAMP:20260423T152301
CREATED:20240815T021756Z
LAST-MODIFIED:20241107T194713Z
UID:46353-1732127400-1732136400@www.emiliaplater.org
SUMMARY:Walne Zebranie
DESCRIPTION:Szanowni Państwo\, \nw dniu 20 listopada 2024 roku odbędzie się WALNE ZEBRANIE dla wszystkich członków Polskiej Szkoły im. Emilii Plater. Zebranie będzie miało miejsce w budynku szkolnym St. John the Evangelist Catholic School\, pod adresem: 513 Parkside Cir\, Streamwood\, IL\, 60107\, o godzinie 6:30 po południu w Kyle Hall (szkolnej kafeterii). \nPolska Szkoła im. Emilii Plater ma w stanie Illinois status „Non-for-profit Corporation” \nWALNE ZEBRANIE jest najwyższą władzą szkoły. Decyduje o jej dalszym kierunku i rozwoju. W zebraniu mają prawo uczestniczyć wszyscy członkowie szkoły: rodzice\, pełnoletni uczniowie\, nauczyciele oraz członkowie honorowi zaakceptowani przez audytorium Walnego Zebrania. \nZasady działania szkoły oparte są na podstawie „STATUTU SZKOŁY”. Statut Szkoły dostępny jest do wglądu na stronie www.emiliaplater.org \nUczestnicy walnego zebrania – drogą głosowania – wybierają nowy skład zarządu szkoły\, który gotowy jest pracować społecznie\, poświęcając swój czas prywatny\, nie tylko w trakcie trwania zajęć szkolnych\, ale także – w miarę potrzeb – w tygodniu i w okresie wakacji\, i innych wolnych od szkoły dni. Decyzje podejmowane na zebraniach zapadają większością głosów. Stabilne funkcjonowanie szkoły możliwe jest dzięki pełnemu zaangażowaniu wszystkich członków zarządu i kierownictwa szkoły. \nWalne zebranie jest doskonałą okazją do spotkania się wszystkich rodziców i zapoznania się ze sposobem prowadzenia szkoły\, jej finansami\, kwestiami organizacyjnymi i dydaktycznymi. Dwudziestego listopada zostanie podsumowana działalność szkoły i jej obecnego zarządu\, następnie zostanie wybrany nowy zarząd i członkowie komisji rewizyjnej. \nZapraszamy Państwa do włączenia się do pracy na rzecz szkoły\, aby zapewnić naszym dzieciom jak najlepsze warunki do kontynuowania nauki języka polskiego\, geografii\, historii naszego kraju oraz jego tradycji. \nOn November 20\, 2024\, at 6:30 PM a General Board meeting will be held for all members of the Emilia Plater Polish School. The meeting will take place at St. John the Evangelist Catholic School located at 513 Parkside Cir\, Streamwood\, IL. This meeting is open to all members of the school\, parents\, adult students\, teachers\, and honorary board members.  The meeting will determine school direction\, future developments\, and other General Board business. All decisions will be made by majority vote. \nBoard members are volunteers who devote their private time on Fridays and Saturdays at the school as well as during the week and on holidays\, when necessary\, in order for our school to properly function. This meeting is a great opportunity to meet other parents and become familiar with the school function\, financials\, organizational matters and teaching methods. \nWe are encouraging you to join us and volunteer at our school in order to give our children the best possible environment to continue learning the Polish language\, history of our country and its traditions. \nPORZĄDEK WALNEGO ZEBRANIA\n1. Otwarcie zebrania przez prezes zarządu – Małgorzatę Gawior.\n2. Przedstawienie i ustalenie porządku obrad.\n3. Wybór Prezydium Walnego Zebrania:\na) przewodniczącego\nb) sekretarza\nc) dwóch asesorów\n4. Odczytania protokołu z poprzedniego Walnego Zebrania.\n5. Dyskusja nad protokołem.\n6. Sprawy członkowskie i proceduralne.\n7. Sprawozdania zarządu:\na) prezesa – Małgorzaty Gawior\nb) księgowej – Ireny Solis.\n8. Sprawozdanie urzędującego dyrektora szkoły – Doroty Waszkiewicz\n9. Sprawozdanie komisji rewizyjnej.\n10. Dyskusja nad sprawozdaniami.\n11. Udzielenie absolutorium ustępującemu zarządowi.\n12. Wybór nowego zarządu:\nb) vice-prezesa do spraw administracyjnych\nc) vice-prezesa do spraw imprezowych\nd) sekretarza korespondencyjnego\ne) sekretarza protokołowego szkoły\nf) siedmiu członków zarządu\ng) pomocników szkolnych.\n14. Wybór komisji rewizyjnej.\n15. Wolne wnioski. \nZ poważaniem\, \nZarząd Polskiej Szkoły im. Emilii Plater
URL:https://www.emiliaplater.org/event/walne-zebranie-5/
LOCATION:Emilia Plater Polish School (KyleHall)\, Szkola kafeteria
END:VEVENT
BEGIN:VEVENT
DTSTART;TZID=America/Chicago:20241116T180000
DTEND;TZID=America/Chicago:20241116T233000
DTSTAMP:20260423T152301
CREATED:20240422T153438Z
LAST-MODIFIED:20240422T153438Z
UID:45925-1731780000-1731799800@www.emiliaplater.org
SUMMARY:Bankiet z okazji 50-lecia naszej szkoły
DESCRIPTION:
URL:https://www.emiliaplater.org/event/bankiet-z-okazji-50-lecia-naszej-szkoly/
END:VEVENT
BEGIN:VEVENT
DTSTART;VALUE=DATE:20241116
DTEND;VALUE=DATE:20241117
DTSTAMP:20260423T152301
CREATED:20240815T005839Z
LAST-MODIFIED:20240815T005839Z
UID:46300-1731715200-1731801599@www.emiliaplater.org
SUMMARY:Nie ma zajęć - WOLNE
DESCRIPTION:
URL:https://www.emiliaplater.org/event/nie-ma-zajec-wolne-2/
END:VEVENT
BEGIN:VEVENT
DTSTART;VALUE=DATE:20241115
DTEND;VALUE=DATE:20241116
DTSTAMP:20260423T152301
CREATED:20240815T005809Z
LAST-MODIFIED:20240815T005809Z
UID:46298-1731628800-1731715199@www.emiliaplater.org
SUMMARY:Nie ma zajęć - WOLNE
DESCRIPTION:
URL:https://www.emiliaplater.org/event/nie-ma-zajec-wolne/
END:VEVENT
BEGIN:VEVENT
DTSTART;TZID=America/Chicago:20241109T121500
DTEND;TZID=America/Chicago:20241109T130000
DTSTAMP:20260423T152301
CREATED:20240911T134647Z
LAST-MODIFIED:20240911T134647Z
UID:46653-1731154500-1731157200@www.emiliaplater.org
SUMMARY:Zajęcia religii SOBOTA
DESCRIPTION:
URL:https://www.emiliaplater.org/event/zajecia-religii-sobota-9/
LOCATION:Emilia Plater Polish School
END:VEVENT
BEGIN:VEVENT
DTSTART;TZID=America/Chicago:20241109T090000
DTEND;TZID=America/Chicago:20241109T121500
DTSTAMP:20260423T152301
CREATED:20240911T133112Z
LAST-MODIFIED:20240911T133112Z
UID:46629-1731142800-1731154500@www.emiliaplater.org
SUMMARY:Zajęcia szkolne SOBOTA
DESCRIPTION:
URL:https://www.emiliaplater.org/event/zajecia-szkolne-sobota-9/
LOCATION:Emilia Plater Polish School
END:VEVENT
BEGIN:VEVENT
DTSTART;TZID=America/Chicago:20241108T201500
DTEND;TZID=America/Chicago:20241108T210000
DTSTAMP:20260423T152301
CREATED:20240911T135207Z
LAST-MODIFIED:20240911T135207Z
UID:46677-1731096900-1731099600@www.emiliaplater.org
SUMMARY:Zajęcia religii PIĄTEK
DESCRIPTION:
URL:https://www.emiliaplater.org/event/zajecia-religii-piatek-10/
LOCATION:Emilia Plater Polish School
END:VEVENT
BEGIN:VEVENT
DTSTART;TZID=America/Chicago:20241108T170000
DTEND;TZID=America/Chicago:20241108T201500
DTSTAMP:20260423T152301
CREATED:20240911T132142Z
LAST-MODIFIED:20240911T132142Z
UID:46602-1731085200-1731096900@www.emiliaplater.org
SUMMARY:Zajęcia szkolne PIĄTEK
DESCRIPTION:
URL:https://www.emiliaplater.org/event/zajecia-szkolne-piatek-9/
LOCATION:Emilia Plater Polish School
END:VEVENT
BEGIN:VEVENT
DTSTART;TZID=America/Chicago:20241102T121500
DTEND;TZID=America/Chicago:20241102T130000
DTSTAMP:20260423T152301
CREATED:20240911T134621Z
LAST-MODIFIED:20240911T134621Z
UID:46651-1730549700-1730552400@www.emiliaplater.org
SUMMARY:Zajęcia religii SOBOTA
DESCRIPTION:
URL:https://www.emiliaplater.org/event/zajecia-religii-sobota-8/
LOCATION:Emilia Plater Polish School
END:VEVENT
BEGIN:VEVENT
DTSTART;TZID=America/Chicago:20241102T110000
DTEND;TZID=America/Chicago:20241102T130000
DTSTAMP:20260423T152301
CREATED:20241023T154542Z
LAST-MODIFIED:20241023T154542Z
UID:48084-1730545200-1730552400@www.emiliaplater.org
SUMMARY:Ślubowanie kl.1 SOBOTA
DESCRIPTION:
URL:https://www.emiliaplater.org/event/slubowanie-kl-1-sobota/
LOCATION:Emilia Plater Polish School (Parish Center)\, 502 S Park Blvd\, Streamwood\, IL\, 60107-2100\, United States
END:VEVENT
BEGIN:VEVENT
DTSTART;TZID=America/Chicago:20241102T090000
DTEND;TZID=America/Chicago:20241102T121500
DTSTAMP:20260423T152301
CREATED:20240911T133051Z
LAST-MODIFIED:20240911T133051Z
UID:46627-1730538000-1730549700@www.emiliaplater.org
SUMMARY:Zajęcia szkolne SOBOTA
DESCRIPTION:
URL:https://www.emiliaplater.org/event/zajecia-szkolne-sobota-8/
LOCATION:Emilia Plater Polish School
END:VEVENT
BEGIN:VEVENT
DTSTART;TZID=America/Chicago:20241101T201500
DTEND;TZID=America/Chicago:20241101T210000
DTSTAMP:20260423T152301
CREATED:20240911T135142Z
LAST-MODIFIED:20240911T135142Z
UID:46675-1730492100-1730494800@www.emiliaplater.org
SUMMARY:Zajęcia religii PIĄTEK
DESCRIPTION:
URL:https://www.emiliaplater.org/event/zajecia-religii-piatek-9/
LOCATION:Emilia Plater Polish School
END:VEVENT
BEGIN:VEVENT
DTSTART;TZID=America/Chicago:20241101T183000
DTEND;TZID=America/Chicago:20241101T193000
DTSTAMP:20260423T152301
CREATED:20241023T154508Z
LAST-MODIFIED:20241023T185515Z
UID:48081-1730485800-1730489400@www.emiliaplater.org
SUMMARY:Ślubowanie kl.1 PIĄTEK
DESCRIPTION:
URL:https://www.emiliaplater.org/event/slubowanie-kl-1-piatek/
LOCATION:Emilia Plater Polish School (Parish Center)\, 502 S Park Blvd\, Streamwood\, IL\, 60107-2100\, United States
END:VEVENT
BEGIN:VEVENT
DTSTART;TZID=America/Chicago:20241101T170000
DTEND;TZID=America/Chicago:20241101T201500
DTSTAMP:20260423T152301
CREATED:20240911T132112Z
LAST-MODIFIED:20240911T132112Z
UID:46600-1730480400-1730492100@www.emiliaplater.org
SUMMARY:Zajęcia szkolne PIĄTEK
DESCRIPTION:
URL:https://www.emiliaplater.org/event/zajecia-szkolne-piatek-8/
LOCATION:Emilia Plater Polish School
END:VEVENT
BEGIN:VEVENT
DTSTART;TZID=America/Chicago:20241026T121500
DTEND;TZID=America/Chicago:20241026T130000
DTSTAMP:20260423T152301
CREATED:20240911T134554Z
LAST-MODIFIED:20240911T134554Z
UID:46649-1729944900-1729947600@www.emiliaplater.org
SUMMARY:Zajęcia religii SOBOTA
DESCRIPTION:
URL:https://www.emiliaplater.org/event/zajecia-religii-sobota-7/
LOCATION:Emilia Plater Polish School
END:VEVENT
BEGIN:VEVENT
DTSTART;TZID=America/Chicago:20241026T110000
DTEND;TZID=America/Chicago:20241026T120000
DTSTAMP:20260423T152301
CREATED:20241023T154401Z
LAST-MODIFIED:20241023T154401Z
UID:48079-1729940400-1729944000@www.emiliaplater.org
SUMMARY:Przyrzeczenie "0" SOBOTA
DESCRIPTION:
URL:https://www.emiliaplater.org/event/przyrzeczenie-0-sobota/
LOCATION:Emilia Plater Polish School (Parish Center)\, 502 S Park Blvd\, Streamwood\, IL\, 60107-2100\, United States
END:VEVENT
BEGIN:VEVENT
DTSTART;TZID=America/Chicago:20241026T090000
DTEND;TZID=America/Chicago:20241026T121500
DTSTAMP:20260423T152301
CREATED:20240911T133027Z
LAST-MODIFIED:20240911T133027Z
UID:46625-1729933200-1729944900@www.emiliaplater.org
SUMMARY:Zajęcia szkolne SOBOTA
DESCRIPTION:
URL:https://www.emiliaplater.org/event/zajecia-szkolne-sobota-7/
LOCATION:Emilia Plater Polish School
END:VEVENT
BEGIN:VEVENT
DTSTART;VALUE=DATE:20241026
DTEND;VALUE=DATE:20241027
DTSTAMP:20260423T152301
CREATED:20240815T011207Z
LAST-MODIFIED:20240911T142009Z
UID:46336-1729900800-1729987199@www.emiliaplater.org
SUMMARY:Liceum kl. 9 ma WOLNE
DESCRIPTION:
URL:https://www.emiliaplater.org/event/liceum-kl-9-11-ma-wolne-4/
END:VEVENT
BEGIN:VEVENT
DTSTART;TZID=America/Chicago:20241025T201500
DTEND;TZID=America/Chicago:20241025T210000
DTSTAMP:20260423T152301
CREATED:20240911T135118Z
LAST-MODIFIED:20240911T135118Z
UID:46673-1729887300-1729890000@www.emiliaplater.org
SUMMARY:Zajęcia religii PIĄTEK
DESCRIPTION:
URL:https://www.emiliaplater.org/event/zajecia-religii-piatek-8/
LOCATION:Emilia Plater Polish School
END:VEVENT
END:VCALENDAR