BEGIN:VCALENDAR
VERSION:2.0
PRODID:-//Emilia Plater Polish School - ECPv6.15.20//NONSGML v1.0//EN
CALSCALE:GREGORIAN
METHOD:PUBLISH
X-WR-CALNAME:Emilia Plater Polish School
X-ORIGINAL-URL:https://www.emiliaplater.org
X-WR-CALDESC:Events for Emilia Plater Polish School
REFRESH-INTERVAL;VALUE=DURATION:PT1H
X-Robots-Tag:noindex
X-PUBLISHED-TTL:PT1H
BEGIN:VTIMEZONE
TZID:America/Chicago
BEGIN:DAYLIGHT
TZOFFSETFROM:-0600
TZOFFSETTO:-0500
TZNAME:CDT
DTSTART:20230312T080000
END:DAYLIGHT
BEGIN:STANDARD
TZOFFSETFROM:-0500
TZOFFSETTO:-0600
TZNAME:CST
DTSTART:20231105T070000
END:STANDARD
BEGIN:DAYLIGHT
TZOFFSETFROM:-0600
TZOFFSETTO:-0500
TZNAME:CDT
DTSTART:20240310T080000
END:DAYLIGHT
BEGIN:STANDARD
TZOFFSETFROM:-0500
TZOFFSETTO:-0600
TZNAME:CST
DTSTART:20241103T070000
END:STANDARD
BEGIN:DAYLIGHT
TZOFFSETFROM:-0600
TZOFFSETTO:-0500
TZNAME:CDT
DTSTART:20250309T080000
END:DAYLIGHT
BEGIN:STANDARD
TZOFFSETFROM:-0500
TZOFFSETTO:-0600
TZNAME:CST
DTSTART:20251102T070000
END:STANDARD
BEGIN:DAYLIGHT
TZOFFSETFROM:-0600
TZOFFSETTO:-0500
TZNAME:CDT
DTSTART:20260308T080000
END:DAYLIGHT
BEGIN:STANDARD
TZOFFSETFROM:-0500
TZOFFSETTO:-0600
TZNAME:CST
DTSTART:20261101T070000
END:STANDARD
END:VTIMEZONE
BEGIN:VEVENT
DTSTART;TZID=America/Chicago:20250906T090000
DTEND;TZID=America/Chicago:20250906T121500
DTSTAMP:20260423T151301
CREATED:20250522T135759Z
LAST-MODIFIED:20250822T135549Z
UID:51936-1757149200-1757160900@www.emiliaplater.org
SUMMARY:Pierwszy dzień zajęć szkolnych szkoła podstawowa (kl.4-latki-8) - SOBOTA
DESCRIPTION:W pierwszy dzień szkoły są tylko zajęcia szkolne bez religii!!!! \nKlasa 10 zaczyna zajęcia tydzień później. i ma zajęcia 27 września.
URL:https://www.emiliaplater.org/event/pierwszy-dzien-zajec-szkolnych-sobota/
LOCATION:Emilia Plater Polish School
END:VEVENT
BEGIN:VEVENT
DTSTART;TZID=America/Chicago:20250905T170000
DTEND;TZID=America/Chicago:20250905T201500
DTSTAMP:20260423T151301
CREATED:20250522T135648Z
LAST-MODIFIED:20250522T135822Z
UID:51933-1757091600-1757103300@www.emiliaplater.org
SUMMARY:Pierwszy dzień zajęć szkolnych - PIĄTEK
DESCRIPTION:W pierwszy dzień szkoły są tylko zajęcia szkolne bez religii!!!! \n 
URL:https://www.emiliaplater.org/event/pierwszy-dzien-zajec-szkolnych/
LOCATION:Emilia Plater Polish School
END:VEVENT
BEGIN:VEVENT
DTSTART;TZID=America/Chicago:20250820T183000
DTEND;TZID=America/Chicago:20250820T210000
DTSTAMP:20260423T151301
CREATED:20250522T135121Z
LAST-MODIFIED:20250813T020016Z
UID:51928-1755714600-1755723600@www.emiliaplater.org
SUMMARY:Odbiór podręczników i ID szkolnych
DESCRIPTION:Podręczniki i identyfikatory dla wszystkich uczniów rozdawane będą w Centrum Parafialnym (budynek obok szkoły i kościoła) wg następującej kolejności:\n– Klasy 4-latki – 3 od godziny 6:30 PM do 7:30 PM\n– Klasy 4 – 11 od godziny 7:30 PM do 8:30 PM\nUwaga: Bardzo prosimy o przychodzenie zgodnie z podanym rozkładem godzin.\nRodzice\, którzy mają więcej niż jedno dziecko zapisane do szkoły\, pojawiają się na godzinę wyznaczoną dla swojego najmłodszego dziecka i w tej samej kolejce otrzymają podręczniki dla jego rodzeństwa. Rodzic nie musi przychodzić ponownie.
URL:https://www.emiliaplater.org/event/odbior-podrecznikow-i-id-szkolnych/
LOCATION:Emilia Plater Polish School (Parish Center)\, 502 S Park Blvd\, Streamwood\, IL\, 60107-2100\, United States
END:VEVENT
BEGIN:VEVENT
DTSTART;VALUE=DATE:20250517
DTEND;VALUE=DATE:20250518
DTSTAMP:20260423T151301
CREATED:20240815T010930Z
LAST-MODIFIED:20240815T010930Z
UID:46328-1747440000-1747526399@www.emiliaplater.org
SUMMARY:Zakończenie Roku Szkolnego SOBOTA
DESCRIPTION:
URL:https://www.emiliaplater.org/event/zakonczenie-roku-szkolnego-sobota/
LOCATION:IL
END:VEVENT
BEGIN:VEVENT
DTSTART;VALUE=DATE:20250516
DTEND;VALUE=DATE:20250517
DTSTAMP:20260423T151301
CREATED:20240815T010904Z
LAST-MODIFIED:20240815T010904Z
UID:46326-1747353600-1747439999@www.emiliaplater.org
SUMMARY:Zakończenie Roku Szkolnego PIĄTEK
DESCRIPTION:Graduacja klas 8 i 11
URL:https://www.emiliaplater.org/event/zakonczenie-roku-szkolnego-piatek/
LOCATION:IL
END:VEVENT
BEGIN:VEVENT
DTSTART;TZID=America/Chicago:20250510T103000
DTEND;TZID=America/Chicago:20250510T120000
DTSTAMP:20260423T151301
CREATED:20240814T193422Z
LAST-MODIFIED:20240814T194136Z
UID:46273-1746873000-1746878400@www.emiliaplater.org
SUMMARY:Komunia klas 3 Grupa I (klasy piatkowe)
DESCRIPTION:
URL:https://www.emiliaplater.org/event/komunia-klas-3-grupa-i/
LOCATION:St. John the Evangelist Church\, 502 S Park Blvd\, Streamwood\, IL\, 60107-2100\, United States
END:VEVENT
BEGIN:VEVENT
DTSTART;TZID=America/Chicago:20250510T013000
DTEND;TZID=America/Chicago:20250510T150000
DTSTAMP:20260423T151301
CREATED:20240814T193551Z
LAST-MODIFIED:20240814T194155Z
UID:46276-1746840600-1746889200@www.emiliaplater.org
SUMMARY:Komunia klas 3 Grupa II (klasy sobotnie)
DESCRIPTION:
URL:https://www.emiliaplater.org/event/komunia-klas-3-grupa-ii/
LOCATION:St. John the Evangelist Church\, 502 S Park Blvd\, Streamwood\, IL\, 60107-2100\, United States
END:VEVENT
BEGIN:VEVENT
DTSTART;VALUE=DATE:20250503
DTEND;VALUE=DATE:20250504
DTSTAMP:20260423T151301
CREATED:20240815T010727Z
LAST-MODIFIED:20240815T010727Z
UID:46322-1746230400-1746316799@www.emiliaplater.org
SUMMARY:Parada 3 maja w Chicago
DESCRIPTION:W tym dniu nie ma zajęć szkolny w budynku szkoły. Wszyscy uczniowie jadą na Paradę.
URL:https://www.emiliaplater.org/event/parada-3-maja-w-chicago/
LOCATION:IL
END:VEVENT
BEGIN:VEVENT
DTSTART;VALUE=DATE:20250502
DTEND;VALUE=DATE:20250503
DTSTAMP:20260423T151301
CREATED:20240815T010803Z
LAST-MODIFIED:20240815T010803Z
UID:46324-1746144000-1746230399@www.emiliaplater.org
SUMMARY:Nie ma zajęć - PARADA w Sobotę
DESCRIPTION:W tym dniu nie ma zajęć szkolny w budynku szkoły. Wszyscy uczniowie jadą na Paradę.
URL:https://www.emiliaplater.org/event/nie-ma-zajec-parada-w-sobote/
LOCATION:IL
END:VEVENT
BEGIN:VEVENT
DTSTART;TZID=America/Chicago:20250426T121500
DTEND;TZID=America/Chicago:20250426T130000
DTSTAMP:20260423T151301
CREATED:20240815T010604Z
LAST-MODIFIED:20240815T010604Z
UID:46320-1745669700-1745672400@www.emiliaplater.org
SUMMARY:Ostatnie zajęcia religii SOBOTA
DESCRIPTION:
URL:https://www.emiliaplater.org/event/ostatnie-zajecia-religii-sobota-2/
LOCATION:IL
END:VEVENT
BEGIN:VEVENT
DTSTART;VALUE=DATE:20250426
DTEND;VALUE=DATE:20250427
DTSTAMP:20260423T151301
CREATED:20240911T150010Z
LAST-MODIFIED:20240911T150010Z
UID:46705-1745625600-1745711999@www.emiliaplater.org
SUMMARY:Liceum kl.9 na WOLNE
DESCRIPTION:
URL:https://www.emiliaplater.org/event/liceum-kl-9-na-wolne/
LOCATION:IL
END:VEVENT
BEGIN:VEVENT
DTSTART;TZID=America/Chicago:20250425T201500
DTEND;TZID=America/Chicago:20250425T210000
DTSTAMP:20260423T151301
CREATED:20240815T010521Z
LAST-MODIFIED:20240815T010521Z
UID:46318-1745612100-1745614800@www.emiliaplater.org
SUMMARY:Ostatnie zajęcia religii PIĄTEK
DESCRIPTION:
URL:https://www.emiliaplater.org/event/ostatnie-zajecia-religii-piatek-2/
LOCATION:IL
END:VEVENT
BEGIN:VEVENT
DTSTART;VALUE=DATE:20250425
DTEND;VALUE=DATE:20250426
DTSTAMP:20260423T151301
CREATED:20240815T014902Z
LAST-MODIFIED:20240815T014902Z
UID:46350-1745539200-1745625599@www.emiliaplater.org
SUMMARY:Liceum (kl. 9-11) ma WOLNE
DESCRIPTION:
URL:https://www.emiliaplater.org/event/liceum-kl-9-11-ma-wolne-11/
LOCATION:IL
END:VEVENT
BEGIN:VEVENT
DTSTART;VALUE=DATE:20250419
DTEND;VALUE=DATE:20250420
DTSTAMP:20260423T151301
CREATED:20240815T010344Z
LAST-MODIFIED:20240815T010344Z
UID:46316-1745020800-1745107199@www.emiliaplater.org
SUMMARY:Nie ma zajęć - WOLNE
DESCRIPTION:
URL:https://www.emiliaplater.org/event/nie-ma-zajec-wolne-10/
LOCATION:IL
END:VEVENT
BEGIN:VEVENT
DTSTART;VALUE=DATE:20250418
DTEND;VALUE=DATE:20250419
DTSTAMP:20260423T151301
CREATED:20240815T010323Z
LAST-MODIFIED:20240815T010323Z
UID:46314-1744934400-1745020799@www.emiliaplater.org
SUMMARY:Nie ma zajęć - WOLNE
DESCRIPTION:
URL:https://www.emiliaplater.org/event/nie-ma-zajec-wolne-9/
LOCATION:IL
END:VEVENT
BEGIN:VEVENT
DTSTART;VALUE=DATE:20250329
DTEND;VALUE=DATE:20250330
DTSTAMP:20260423T151301
CREATED:20240815T014816Z
LAST-MODIFIED:20240911T150046Z
UID:46348-1743206400-1743292799@www.emiliaplater.org
SUMMARY:Liceum kl. 9 ma WOLNE
DESCRIPTION:
URL:https://www.emiliaplater.org/event/liceum-kl-9-11-ma-wolne-10/
LOCATION:IL
END:VEVENT
BEGIN:VEVENT
DTSTART;VALUE=DATE:20250328
DTEND;VALUE=DATE:20250329
DTSTAMP:20260423T151301
CREATED:20240815T014659Z
LAST-MODIFIED:20240815T014659Z
UID:46344-1743120000-1743206399@www.emiliaplater.org
SUMMARY:Liceum (kl. 9-11) ma WOLNE
DESCRIPTION:
URL:https://www.emiliaplater.org/event/liceum-kl-9-11-ma-wolne-8/
LOCATION:IL
END:VEVENT
BEGIN:VEVENT
DTSTART;TZID=America/Chicago:20250301T110000
DTEND;TZID=America/Chicago:20250301T130000
DTSTAMP:20260423T151301
CREATED:20240815T185030Z
LAST-MODIFIED:20240815T185030Z
UID:46358-1740826800-1740834000@www.emiliaplater.org
SUMMARY:Bierzmowanie klas 8
DESCRIPTION:
URL:https://www.emiliaplater.org/event/bierzmowanie-klas-8-2/
LOCATION:St. John the Evangelist Church\, 502 S Park Blvd\, Streamwood\, IL\, 60107-2100\, United States
END:VEVENT
BEGIN:VEVENT
DTSTART;VALUE=DATE:20250228
DTEND;VALUE=DATE:20250301
DTSTAMP:20260423T151301
CREATED:20240815T014627Z
LAST-MODIFIED:20240815T014627Z
UID:46342-1740700800-1740787199@www.emiliaplater.org
SUMMARY:Liceum (kl. 9-11) ma WOLNE
DESCRIPTION:
URL:https://www.emiliaplater.org/event/liceum-kl-9-11-ma-wolne-7/
LOCATION:IL
END:VEVENT
BEGIN:VEVENT
DTSTART;TZID=America/Chicago:20250222T100000
DTEND;TZID=America/Chicago:20250222T130000
DTSTAMP:20260423T151301
CREATED:20240911T152031Z
LAST-MODIFIED:20240911T152031Z
UID:46714-1740218400-1740229200@www.emiliaplater.org
SUMMARY:Festiwal Piosenki
DESCRIPTION:
URL:https://www.emiliaplater.org/event/festiwal-piosenki-2/
LOCATION:Emilia Plater Polish School (Parish Center)\, 502 S Park Blvd\, Streamwood\, IL\, 60107-2100\, United States
END:VEVENT
BEGIN:VEVENT
DTSTART;VALUE=DATE:20250222
DTEND;VALUE=DATE:20250223
DTSTAMP:20260423T151301
CREATED:20240815T014720Z
LAST-MODIFIED:20240911T142136Z
UID:46346-1740182400-1740268799@www.emiliaplater.org
SUMMARY:Liceum kl. 9 ma WOLNE
DESCRIPTION:
URL:https://www.emiliaplater.org/event/liceum-kl-9-11-ma-wolne-9/
LOCATION:IL
END:VEVENT
BEGIN:VEVENT
DTSTART;TZID=America/Chicago:20250201T180000
DTEND;TZID=America/Chicago:20250202T020000
DTSTAMP:20260423T151301
CREATED:20240814T193637Z
LAST-MODIFIED:20240814T193637Z
UID:46278-1738432800-1738461600@www.emiliaplater.org
SUMMARY:Bal Szkolny
DESCRIPTION:
URL:https://www.emiliaplater.org/event/bal-szkolny/
LOCATION:The Seville\, 700 S. Barrington Rd\, Streamwood\, IL\, 60107-2100\, United States
END:VEVENT
BEGIN:VEVENT
DTSTART;VALUE=DATE:20250131
DTEND;VALUE=DATE:20250201
DTSTAMP:20260423T151301
CREATED:20240815T011232Z
LAST-MODIFIED:20240815T011232Z
UID:46338-1738281600-1738367999@www.emiliaplater.org
SUMMARY:Liceum (kl. 9-11) ma WOLNE
DESCRIPTION:
URL:https://www.emiliaplater.org/event/liceum-kl-9-11-ma-wolne-5/
LOCATION:IL
END:VEVENT
BEGIN:VEVENT
DTSTART;VALUE=DATE:20250125
DTEND;VALUE=DATE:20250126
DTSTAMP:20260423T151301
CREATED:20240815T011300Z
LAST-MODIFIED:20240911T141558Z
UID:46340-1737763200-1737849599@www.emiliaplater.org
SUMMARY:Liceum kl. 9 ma WOLNE
DESCRIPTION:
URL:https://www.emiliaplater.org/event/liceum-kl-9-11-ma-wolne-6/
LOCATION:IL
END:VEVENT
BEGIN:VEVENT
DTSTART;VALUE=DATE:20250104
DTEND;VALUE=DATE:20250105
DTSTAMP:20260423T151301
CREATED:20240815T010250Z
LAST-MODIFIED:20240815T010250Z
UID:46312-1735948800-1736035199@www.emiliaplater.org
SUMMARY:Nie ma zajęć - WOLNE
DESCRIPTION:
URL:https://www.emiliaplater.org/event/nie-ma-zajec-wolne-8/
LOCATION:IL
END:VEVENT
BEGIN:VEVENT
DTSTART;VALUE=DATE:20250103
DTEND;VALUE=DATE:20250104
DTSTAMP:20260423T151301
CREATED:20240815T010232Z
LAST-MODIFIED:20240815T010232Z
UID:46310-1735862400-1735948799@www.emiliaplater.org
SUMMARY:Nie ma zajęć - WOLNE
DESCRIPTION:
URL:https://www.emiliaplater.org/event/nie-ma-zajec-wolne-7/
LOCATION:IL
END:VEVENT
BEGIN:VEVENT
DTSTART;VALUE=DATE:20241228
DTEND;VALUE=DATE:20241229
DTSTAMP:20260423T151301
CREATED:20240815T010206Z
LAST-MODIFIED:20240815T010206Z
UID:46308-1735344000-1735430399@www.emiliaplater.org
SUMMARY:Nie ma zajęć - WOLNE
DESCRIPTION:
URL:https://www.emiliaplater.org/event/nie-ma-zajec-wolne-6/
LOCATION:IL
END:VEVENT
BEGIN:VEVENT
DTSTART;VALUE=DATE:20241227
DTEND;VALUE=DATE:20241228
DTSTAMP:20260423T151301
CREATED:20240815T010141Z
LAST-MODIFIED:20240815T010141Z
UID:46306-1735257600-1735343999@www.emiliaplater.org
SUMMARY:Nie ma zajęć - WOLNE
DESCRIPTION:
URL:https://www.emiliaplater.org/event/nie-ma-zajec-wolne-5/
LOCATION:IL
END:VEVENT
BEGIN:VEVENT
DTSTART;TZID=America/Chicago:20241221T090000
DTEND;TZID=America/Chicago:20241221T120000
DTSTAMP:20260423T151301
CREATED:20240911T133300Z
LAST-MODIFIED:20240911T133300Z
UID:46637-1734771600-1734782400@www.emiliaplater.org
SUMMARY:Zajęcia szkolne SOBOTA - Jasełka
DESCRIPTION:
URL:https://www.emiliaplater.org/event/zajecia-szkolne-sobota-jaselka/
LOCATION:Emilia Plater Polish School
END:VEVENT
BEGIN:VEVENT
DTSTART;TZID=America/Chicago:20241220T170000
DTEND;TZID=America/Chicago:20241220T200000
DTSTAMP:20260423T151301
CREATED:20240911T132455Z
LAST-MODIFIED:20240911T132455Z
UID:46610-1734714000-1734724800@www.emiliaplater.org
SUMMARY:Zajęcia szkolne PIĄTEK - Jasełka
DESCRIPTION:
URL:https://www.emiliaplater.org/event/zajecia-szkolne-piatek-jaselka/
LOCATION:Emilia Plater Polish School
END:VEVENT
END:VCALENDAR