BEGIN:VCALENDAR
VERSION:2.0
PRODID:-//Emilia Plater Polish School - ECPv6.15.20//NONSGML v1.0//EN
CALSCALE:GREGORIAN
METHOD:PUBLISH
X-WR-CALNAME:Emilia Plater Polish School
X-ORIGINAL-URL:https://www.emiliaplater.org
X-WR-CALDESC:Events for Emilia Plater Polish School
REFRESH-INTERVAL;VALUE=DURATION:PT1H
X-Robots-Tag:noindex
X-PUBLISHED-TTL:PT1H
BEGIN:VTIMEZONE
TZID:America/Chicago
BEGIN:DAYLIGHT
TZOFFSETFROM:-0600
TZOFFSETTO:-0500
TZNAME:CDT
DTSTART:20190310T080000
END:DAYLIGHT
BEGIN:STANDARD
TZOFFSETFROM:-0500
TZOFFSETTO:-0600
TZNAME:CST
DTSTART:20191103T070000
END:STANDARD
BEGIN:DAYLIGHT
TZOFFSETFROM:-0600
TZOFFSETTO:-0500
TZNAME:CDT
DTSTART:20200308T080000
END:DAYLIGHT
BEGIN:STANDARD
TZOFFSETFROM:-0500
TZOFFSETTO:-0600
TZNAME:CST
DTSTART:20201101T070000
END:STANDARD
BEGIN:DAYLIGHT
TZOFFSETFROM:-0600
TZOFFSETTO:-0500
TZNAME:CDT
DTSTART:20210314T080000
END:DAYLIGHT
BEGIN:STANDARD
TZOFFSETFROM:-0500
TZOFFSETTO:-0600
TZNAME:CST
DTSTART:20211107T070000
END:STANDARD
BEGIN:DAYLIGHT
TZOFFSETFROM:-0600
TZOFFSETTO:-0500
TZNAME:CDT
DTSTART:20220313T080000
END:DAYLIGHT
BEGIN:STANDARD
TZOFFSETFROM:-0500
TZOFFSETTO:-0600
TZNAME:CST
DTSTART:20221106T070000
END:STANDARD
BEGIN:DAYLIGHT
TZOFFSETFROM:-0600
TZOFFSETTO:-0500
TZNAME:CDT
DTSTART:20230312T080000
END:DAYLIGHT
BEGIN:STANDARD
TZOFFSETFROM:-0500
TZOFFSETTO:-0600
TZNAME:CST
DTSTART:20231105T070000
END:STANDARD
END:VTIMEZONE
BEGIN:VEVENT
DTSTART;TZID=America/Chicago:20220514T133000
DTEND;TZID=America/Chicago:20220514T150000
DTSTAMP:20260424T070045
CREATED:20220916T175607Z
LAST-MODIFIED:20220916T191826Z
UID:37479-1652535000-1652540400@www.emiliaplater.org
SUMMARY:Komunia Święta klas sobotnich
DESCRIPTION:
URL:https://www.emiliaplater.org/event/komunia-swieta-klas-sobotnich/
END:VEVENT
BEGIN:VEVENT
DTSTART;TZID=America/Chicago:20220514T103000
DTEND;TZID=America/Chicago:20220514T120000
DTSTAMP:20260424T070045
CREATED:20220916T175552Z
LAST-MODIFIED:20220916T191826Z
UID:37478-1652524200-1652529600@www.emiliaplater.org
SUMMARY:Komunia Święta klas piątkowych
DESCRIPTION:
URL:https://www.emiliaplater.org/event/komunia-swieta-klas-piatkowych/
END:VEVENT
BEGIN:VEVENT
DTSTART;TZID=America/Chicago:20220312T090000
DTEND;TZID=America/Chicago:20220312T120000
DTSTAMP:20260424T070045
CREATED:20220916T175552Z
LAST-MODIFIED:20220916T191826Z
UID:37477-1647075600-1647086400@www.emiliaplater.org
SUMMARY:Zajęcia religii dla uczniów sobotnich (OSTATNIE)
DESCRIPTION:
URL:https://www.emiliaplater.org/event/zajecia-religii-dla-uczniow-sobotnich-ostatnie/
END:VEVENT
BEGIN:VEVENT
DTSTART;TZID=America/Chicago:20220311T170000
DTEND;TZID=America/Chicago:20220311T200000
DTSTAMP:20260424T070045
CREATED:20220916T175552Z
LAST-MODIFIED:20220916T191826Z
UID:37476-1647018000-1647028800@www.emiliaplater.org
SUMMARY:Zajęcia religii dla uczniów piątkowych (OSTATNIE)
DESCRIPTION:
URL:https://www.emiliaplater.org/event/zajecia-religii-dla-uczniow-piatkowych-ostatnie/
END:VEVENT
BEGIN:VEVENT
DTSTART;TZID=America/Chicago:20220226T180000
DTEND;TZID=America/Chicago:20220227T020000
DTSTAMP:20260424T070045
CREATED:20220916T175552Z
LAST-MODIFIED:20220916T191826Z
UID:37475-1645898400-1645927200@www.emiliaplater.org
SUMMARY:Bal Szkolny ZIMOWE KRÓLESTWO
DESCRIPTION:
URL:https://www.emiliaplater.org/event/bal-szkolny-zimowe-krolestwo/
END:VEVENT
BEGIN:VEVENT
DTSTART;TZID=America/Chicago:20220225T180000
DTEND;TZID=America/Chicago:20220225T200000
DTSTAMP:20260424T070045
CREATED:20220916T175552Z
LAST-MODIFIED:20220916T191826Z
UID:37474-1645812000-1645819200@www.emiliaplater.org
SUMMARY:Bierzmowanie
DESCRIPTION:
URL:https://www.emiliaplater.org/event/bierzmowanie/
END:VEVENT
BEGIN:VEVENT
DTSTART;TZID=America/Chicago:20220212T090000
DTEND;TZID=America/Chicago:20220212T120000
DTSTAMP:20260424T070045
CREATED:20220916T175537Z
LAST-MODIFIED:20220916T191826Z
UID:37473-1644656400-1644667200@www.emiliaplater.org
SUMMARY:Zajęcia religii dla uczniów sobotnich
DESCRIPTION:
URL:https://www.emiliaplater.org/event/zajecia-religii-dla-uczniow-sobotnich-4/
END:VEVENT
BEGIN:VEVENT
DTSTART;TZID=America/Chicago:20220211T170000
DTEND;TZID=America/Chicago:20220211T200000
DTSTAMP:20260424T070045
CREATED:20220916T175537Z
LAST-MODIFIED:20220916T191826Z
UID:37472-1644598800-1644609600@www.emiliaplater.org
SUMMARY:Zajęcia religii dla uczniów piątkowych
DESCRIPTION:
URL:https://www.emiliaplater.org/event/zajecia-religii-dla-uczniow-piatkowych-4/
END:VEVENT
BEGIN:VEVENT
DTSTART;TZID=America/Chicago:20220121T170000
DTEND;TZID=America/Chicago:20220121T200000
DTSTAMP:20260424T070045
CREATED:20220916T175537Z
LAST-MODIFIED:20220916T191826Z
UID:37471-1642784400-1642795200@www.emiliaplater.org
SUMMARY:Zajęcia religii dla uczniów piątkowych
DESCRIPTION:
URL:https://www.emiliaplater.org/event/zajecia-religii-dla-uczniow-piatkowych-3/
END:VEVENT
BEGIN:VEVENT
DTSTART;TZID=America/Chicago:20220115T090000
DTEND;TZID=America/Chicago:20220115T120000
DTSTAMP:20260424T070045
CREATED:20220916T175537Z
LAST-MODIFIED:20220916T191826Z
UID:37470-1642237200-1642248000@www.emiliaplater.org
SUMMARY:Zajęcia religii dla uczniów sobotnich
DESCRIPTION:
URL:https://www.emiliaplater.org/event/zajecia-religii-dla-uczniow-sobotnich-3/
END:VEVENT
BEGIN:VEVENT
DTSTART;TZID=America/Chicago:20211211T090000
DTEND;TZID=America/Chicago:20211211T120000
DTSTAMP:20260424T070045
CREATED:20220916T175537Z
LAST-MODIFIED:20220916T191826Z
UID:37469-1639213200-1639224000@www.emiliaplater.org
SUMMARY:Zajęcia religii dla uczniów sobotnich – JASEŁKA
DESCRIPTION:
URL:https://www.emiliaplater.org/event/zajecia-religii-dla-uczniow-sobotnich-jaselka/
END:VEVENT
BEGIN:VEVENT
DTSTART;TZID=America/Chicago:20211210T170000
DTEND;TZID=America/Chicago:20211210T200000
DTSTAMP:20260424T070045
CREATED:20220916T175522Z
LAST-MODIFIED:20220916T191826Z
UID:37468-1639155600-1639166400@www.emiliaplater.org
SUMMARY:Zajęcia religii dla uczniów piątkowych –  JASEŁKA
DESCRIPTION:
URL:https://www.emiliaplater.org/event/zajecia-religii-dla-uczniow-piatkowych-jaselka/
END:VEVENT
BEGIN:VEVENT
DTSTART;TZID=America/Chicago:20211113T090000
DTEND;TZID=America/Chicago:20211113T120000
DTSTAMP:20260424T070045
CREATED:20220916T175522Z
LAST-MODIFIED:20220916T192925Z
UID:37467-1636794000-1636804800@www.emiliaplater.org
SUMMARY:Zajęcia religii dla uczniów sobotnich
DESCRIPTION:
URL:https://www.emiliaplater.org/event/zajecia-religii-dla-uczniow-sobotnich-2/
END:VEVENT
BEGIN:VEVENT
DTSTART;TZID=America/Chicago:20211112T170000
DTEND;TZID=America/Chicago:20211112T200000
DTSTAMP:20260424T070045
CREATED:20220916T175522Z
LAST-MODIFIED:20220916T192925Z
UID:37466-1636736400-1636747200@www.emiliaplater.org
SUMMARY:Zajęcia religii dla uczniów piątkowych
DESCRIPTION:
URL:https://www.emiliaplater.org/event/zajecia-religii-dla-uczniow-piatkowych-2/
END:VEVENT
BEGIN:VEVENT
DTSTART;TZID=America/Chicago:20211009T090000
DTEND;TZID=America/Chicago:20211009T120000
DTSTAMP:20260424T070045
CREATED:20220916T175522Z
LAST-MODIFIED:20220916T192925Z
UID:37465-1633770000-1633780800@www.emiliaplater.org
SUMMARY:Zajęcia religii dla uczniów sobotnich
DESCRIPTION:
URL:https://www.emiliaplater.org/event/zajecia-religii-dla-uczniow-sobotnich/
END:VEVENT
BEGIN:VEVENT
DTSTART;TZID=America/Chicago:20211008T170000
DTEND;TZID=America/Chicago:20211008T200000
DTSTAMP:20260424T070045
CREATED:20220916T175522Z
LAST-MODIFIED:20220916T192925Z
UID:37464-1633712400-1633723200@www.emiliaplater.org
SUMMARY:Zajęcia religii dla uczniów piątkowych
DESCRIPTION:
URL:https://www.emiliaplater.org/event/zajecia-religii-dla-uczniow-piatkowych/
END:VEVENT
BEGIN:VEVENT
DTSTART;TZID=America/Chicago:20211002T131500
DTEND;TZID=America/Chicago:20211002T150000
DTSTAMP:20260424T070045
CREATED:20220916T175507Z
LAST-MODIFIED:20220916T192925Z
UID:37463-1633180500-1633186800@www.emiliaplater.org
SUMMARY:Walne Zebranie
DESCRIPTION:
URL:https://www.emiliaplater.org/event/walne-zebranie-2/
END:VEVENT
BEGIN:VEVENT
DTSTART;TZID=America/Chicago:20210508T133000
DTEND;TZID=America/Chicago:20210508T150000
DTSTAMP:20260424T070045
CREATED:20220916T175507Z
LAST-MODIFIED:20220916T192925Z
UID:37462-1620480600-1620486000@www.emiliaplater.org
SUMMARY:I Komunia Święta klas 3 z soboty
DESCRIPTION:
URL:https://www.emiliaplater.org/event/i-komunia-swieta-klas-3-z-soboty/
END:VEVENT
BEGIN:VEVENT
DTSTART;TZID=America/Chicago:20210508T103000
DTEND;TZID=America/Chicago:20210508T120000
DTSTAMP:20260424T070045
CREATED:20220916T175507Z
LAST-MODIFIED:20220916T192925Z
UID:37461-1620469800-1620475200@www.emiliaplater.org
SUMMARY:I Komunia Święta klas 3 z piątku
DESCRIPTION:
URL:https://www.emiliaplater.org/event/i-komunia-swieta-klas-3-z-piatku/
END:VEVENT
BEGIN:VEVENT
DTSTART;TZID=America/Chicago:20210402T000000
DTEND;TZID=America/Chicago:20210404T000000
DTSTAMP:20260424T070045
CREATED:20220916T175421Z
LAST-MODIFIED:20220916T192925Z
UID:37442-1617321600-1617494400@www.emiliaplater.org
SUMMARY:Nie ma zajęć-Wielkanoc
DESCRIPTION:
URL:https://www.emiliaplater.org/event/nie-ma-zajec-wielkanoc-2/
END:VEVENT
BEGIN:VEVENT
DTSTART;TZID=America/Chicago:20210326T000000
DTEND;TZID=America/Chicago:20210328T000000
DTSTAMP:20260424T070045
CREATED:20220916T175421Z
LAST-MODIFIED:20220916T192925Z
UID:37441-1616716800-1616889600@www.emiliaplater.org
SUMMARY:Nie ma zajęć-przerwa wiosenna
DESCRIPTION:
URL:https://www.emiliaplater.org/event/nie-ma-zajec-przerwa-wiosenna-2/
END:VEVENT
BEGIN:VEVENT
DTSTART;TZID=America/Chicago:20210225T193000
DTEND;TZID=America/Chicago:20210225T203000
DTSTAMP:20260424T070045
CREATED:20220916T175507Z
LAST-MODIFIED:20220916T192925Z
UID:37460-1614281400-1614285000@www.emiliaplater.org
SUMMARY:Spotkanie Komunijne
DESCRIPTION:Drodzy Rodzice\, Spotkanie modlitewno-organizacyjne dla rodziców i dzieci\, które przygotowują się do przyjęcia Pierwszej Komunii Świętej w maju odbędzie się we czwartek 25 lutego 2021 o godzinie 7:30pm w kościele St John the Evangelist. Prosimy\, aby przynajmniej jeden rodzic z każdej rodziny byl obecny.  Do zobaczenia
URL:https://www.emiliaplater.org/event/spotkanie-komunijne/
END:VEVENT
BEGIN:VEVENT
DTSTART;TZID=America/Chicago:20210213T133000
DTEND;TZID=America/Chicago:20210213T143000
DTSTAMP:20260424T070045
CREATED:20220916T175507Z
LAST-MODIFIED:20220916T192925Z
UID:37459-1613223000-1613226600@www.emiliaplater.org
SUMMARY:Bierzmowanie kl.8
DESCRIPTION:
URL:https://www.emiliaplater.org/event/bierzmowanie-kl-8-2/
END:VEVENT
BEGIN:VEVENT
DTSTART;TZID=America/Chicago:20200516T000000
DTEND;TZID=America/Chicago:20200517T000000
DTSTAMP:20260424T070045
CREATED:20220916T175421Z
LAST-MODIFIED:20220916T192925Z
UID:37440-1589587200-1589673600@www.emiliaplater.org
SUMMARY:Zakończenie Roku Szkolnego
DESCRIPTION:
URL:https://www.emiliaplater.org/event/zakonczenie-roku-szkolnego/
END:VEVENT
BEGIN:VEVENT
DTSTART;TZID=America/Chicago:20200509T110000
DTEND;TZID=America/Chicago:20200509T123000
DTSTAMP:20260424T070045
CREATED:20220916T175452Z
LAST-MODIFIED:20220916T192925Z
UID:37458-1589022000-1589027400@www.emiliaplater.org
SUMMARY:I Komunia Święta klas 3
DESCRIPTION:
URL:https://www.emiliaplater.org/event/i-komunia-swieta-klas-3/
END:VEVENT
BEGIN:VEVENT
DTSTART;TZID=America/Chicago:20200425T120000
DTEND;TZID=America/Chicago:20200425T130000
DTSTAMP:20260424T070045
CREATED:20220916T175452Z
LAST-MODIFIED:20220916T192925Z
UID:37457-1587816000-1587819600@www.emiliaplater.org
SUMMARY:Dzień Mamy i Taty
DESCRIPTION:Serdecznie zapraszamy na akademię z okazji Dnia Mamy i Taty przygotowana przez klasy 4 oraz Zespół Polanie
URL:https://www.emiliaplater.org/event/dzien-mamy-i-taty-2/
END:VEVENT
BEGIN:VEVENT
DTSTART;TZID=America/Chicago:20200424T200000
DTEND;TZID=America/Chicago:20200424T210000
DTSTAMP:20260424T070045
CREATED:20220916T175452Z
LAST-MODIFIED:20220916T192925Z
UID:37456-1587758400-1587762000@www.emiliaplater.org
SUMMARY:Dzień Mamy i Taty
DESCRIPTION:Serdecznie zapraszamy na akademię z okazji Dnia Mamy i Taty przygotowana przez klasy 4 oraz Zespół Polanie
URL:https://www.emiliaplater.org/event/dzien-mamy-i-taty/
END:VEVENT
BEGIN:VEVENT
DTSTART;TZID=America/Chicago:20200410T000000
DTEND;TZID=America/Chicago:20200412T000000
DTSTAMP:20260424T070045
CREATED:20220916T175421Z
LAST-MODIFIED:20220916T192926Z
UID:37439-1586476800-1586649600@www.emiliaplater.org
SUMMARY:NIE MA ZAJĘĆ – Wielkanoc
DESCRIPTION:
URL:https://www.emiliaplater.org/event/nie-ma-zajec-wielkanoc/
END:VEVENT
BEGIN:VEVENT
DTSTART;TZID=America/Chicago:20200327T000000
DTEND;TZID=America/Chicago:20200329T000000
DTSTAMP:20260424T070045
CREATED:20220916T175419Z
LAST-MODIFIED:20220916T192926Z
UID:37438-1585267200-1585440000@www.emiliaplater.org
SUMMARY:NIE MA ZAJĘĆ – Przerwa Wiosenna
DESCRIPTION:
URL:https://www.emiliaplater.org/event/nie-ma-zajec-przerwa-wiosenna/
END:VEVENT
BEGIN:VEVENT
DTSTART;TZID=America/Chicago:20200229T100000
DTEND;TZID=America/Chicago:20200229T130000
DTSTAMP:20260424T070045
CREATED:20220916T175452Z
LAST-MODIFIED:20220916T192926Z
UID:37455-1582970400-1582981200@www.emiliaplater.org
SUMMARY:Międzyszkolny Festiwal Piosenki Polskiej
DESCRIPTION:
URL:https://www.emiliaplater.org/event/miedzyszkolny-festiwal-piosenki-polskiej/
END:VEVENT
END:VCALENDAR