BEGIN:VCALENDAR
VERSION:2.0
PRODID:-//Emilia Plater Polish School - ECPv6.15.20//NONSGML v1.0//EN
CALSCALE:GREGORIAN
METHOD:PUBLISH
X-ORIGINAL-URL:https://www.emiliaplater.org
X-WR-CALDESC:Events for Emilia Plater Polish School
REFRESH-INTERVAL;VALUE=DURATION:PT1H
X-Robots-Tag:noindex
X-PUBLISHED-TTL:PT1H
BEGIN:VTIMEZONE
TZID:America/Chicago
BEGIN:DAYLIGHT
TZOFFSETFROM:-0600
TZOFFSETTO:-0500
TZNAME:CDT
DTSTART:20240310T080000
END:DAYLIGHT
BEGIN:STANDARD
TZOFFSETFROM:-0500
TZOFFSETTO:-0600
TZNAME:CST
DTSTART:20241103T070000
END:STANDARD
BEGIN:DAYLIGHT
TZOFFSETFROM:-0600
TZOFFSETTO:-0500
TZNAME:CDT
DTSTART:20250309T080000
END:DAYLIGHT
BEGIN:STANDARD
TZOFFSETFROM:-0500
TZOFFSETTO:-0600
TZNAME:CST
DTSTART:20251102T070000
END:STANDARD
BEGIN:DAYLIGHT
TZOFFSETFROM:-0600
TZOFFSETTO:-0500
TZNAME:CDT
DTSTART:20260308T080000
END:DAYLIGHT
BEGIN:STANDARD
TZOFFSETFROM:-0500
TZOFFSETTO:-0600
TZNAME:CST
DTSTART:20261101T070000
END:STANDARD
END:VTIMEZONE
BEGIN:VEVENT
DTSTART;TZID=America/Chicago:20251102T130000
DTEND;TZID=America/Chicago:20251102T140000
DTSTAMP:20260423T150319
CREATED:20250916T193452Z
LAST-MODIFIED:20250916T193452Z
UID:53207-1762088400-1762092000@www.emiliaplater.org
SUMMARY:Msza Szkolna
DESCRIPTION:
URL:https://www.emiliaplater.org/event/msza-szkolna-2/
LOCATION:St. John the Evangelist Church\, 502 S Park Blvd\, Streamwood\, IL\, 60107-2100\, United States
END:VEVENT
BEGIN:VEVENT
DTSTART;TZID=America/Chicago:20251102T140000
DTEND;TZID=America/Chicago:20251102T150000
DTSTAMP:20260423T150319
CREATED:20250916T193312Z
LAST-MODIFIED:20250916T193312Z
UID:53205-1762092000-1762095600@www.emiliaplater.org
SUMMARY:Spotkanie informacyjne - Komunia Św
DESCRIPTION:Zapraszamy uczniów klas 3 wraz z rodzicami na spotkanie odnośnie Sakramentu Komunii Świętej po mszy o godzinie 1pm
URL:https://www.emiliaplater.org/event/spotkanie-informacyjne-komunia-sw/
LOCATION:St. John the Evangelist Church\, 502 S Park Blvd\, Streamwood\, IL\, 60107-2100\, United States
END:VEVENT
END:VCALENDAR