BEGIN:VCALENDAR
VERSION:2.0
PRODID:-//Emilia Plater Polish School - ECPv6.15.20//NONSGML v1.0//EN
CALSCALE:GREGORIAN
METHOD:PUBLISH
X-WR-CALNAME:Emilia Plater Polish School
X-ORIGINAL-URL:https://www.emiliaplater.org
X-WR-CALDESC:Events for Emilia Plater Polish School
REFRESH-INTERVAL;VALUE=DURATION:PT1H
X-Robots-Tag:noindex
X-PUBLISHED-TTL:PT1H
BEGIN:VTIMEZONE
TZID:America/Chicago
BEGIN:DAYLIGHT
TZOFFSETFROM:-0600
TZOFFSETTO:-0500
TZNAME:CDT
DTSTART:20240310T080000
END:DAYLIGHT
BEGIN:STANDARD
TZOFFSETFROM:-0500
TZOFFSETTO:-0600
TZNAME:CST
DTSTART:20241103T070000
END:STANDARD
BEGIN:DAYLIGHT
TZOFFSETFROM:-0600
TZOFFSETTO:-0500
TZNAME:CDT
DTSTART:20250309T080000
END:DAYLIGHT
BEGIN:STANDARD
TZOFFSETFROM:-0500
TZOFFSETTO:-0600
TZNAME:CST
DTSTART:20251102T070000
END:STANDARD
BEGIN:DAYLIGHT
TZOFFSETFROM:-0600
TZOFFSETTO:-0500
TZNAME:CDT
DTSTART:20260308T080000
END:DAYLIGHT
BEGIN:STANDARD
TZOFFSETFROM:-0500
TZOFFSETTO:-0600
TZNAME:CST
DTSTART:20261101T070000
END:STANDARD
END:VTIMEZONE
BEGIN:VEVENT
DTSTART;VALUE=DATE:20250912
DTEND;VALUE=DATE:20250913
DTSTAMP:20260423T173053
CREATED:20250910T005150Z
LAST-MODIFIED:20250910T005150Z
UID:53004-1757635200-1757721599@www.emiliaplater.org
SUMMARY:Pierwsze zajęcia religii PIĄTEK
DESCRIPTION:
URL:https://www.emiliaplater.org/event/pierwsze-zajecia-religii-piatek/
LOCATION:Emilia Plater Polish School
END:VEVENT
BEGIN:VEVENT
DTSTART;TZID=America/Chicago:20250912T170000
DTEND;TZID=America/Chicago:20250912T174500
DTSTAMP:20260423T173053
CREATED:20250910T005256Z
LAST-MODIFIED:20250910T010033Z
UID:53006-1757696400-1757699100@www.emiliaplater.org
SUMMARY:Zebrania z rodzicami 0-kl.4 PIĄTEK
DESCRIPTION:KLASY OD ZERÓWKI DO KLAS 4 \nPiątek 09/12/2025 zerówka – 4 klasy; godzina 5.00 – 5:20 P.M. spotkanie w klasach z nauczycielem.\n5:20 P.M. – ogólne spotkanie w kafeterii szkolnej.
URL:https://www.emiliaplater.org/event/pierwsze-zajecia-religii-sobota/
LOCATION:Emilia Plater Polish School (KyleHall)\, Szkola kafeteria
END:VEVENT
END:VCALENDAR