BEGIN:VCALENDAR
VERSION:2.0
PRODID:-//Emilia Plater Polish School - ECPv6.15.20//NONSGML v1.0//EN
CALSCALE:GREGORIAN
METHOD:PUBLISH
X-WR-CALNAME:Emilia Plater Polish School
X-ORIGINAL-URL:https://www.emiliaplater.org
X-WR-CALDESC:Events for Emilia Plater Polish School
REFRESH-INTERVAL;VALUE=DURATION:PT1H
X-Robots-Tag:noindex
X-PUBLISHED-TTL:PT1H
BEGIN:VTIMEZONE
TZID:America/Chicago
BEGIN:DAYLIGHT
TZOFFSETFROM:-0600
TZOFFSETTO:-0500
TZNAME:CDT
DTSTART:20230312T080000
END:DAYLIGHT
BEGIN:STANDARD
TZOFFSETFROM:-0500
TZOFFSETTO:-0600
TZNAME:CST
DTSTART:20231105T070000
END:STANDARD
BEGIN:DAYLIGHT
TZOFFSETFROM:-0600
TZOFFSETTO:-0500
TZNAME:CDT
DTSTART:20240310T080000
END:DAYLIGHT
BEGIN:STANDARD
TZOFFSETFROM:-0500
TZOFFSETTO:-0600
TZNAME:CST
DTSTART:20241103T070000
END:STANDARD
BEGIN:DAYLIGHT
TZOFFSETFROM:-0600
TZOFFSETTO:-0500
TZNAME:CDT
DTSTART:20250309T080000
END:DAYLIGHT
BEGIN:STANDARD
TZOFFSETFROM:-0500
TZOFFSETTO:-0600
TZNAME:CST
DTSTART:20251102T070000
END:STANDARD
END:VTIMEZONE
BEGIN:VEVENT
DTSTART;VALUE=DATE:20241025
DTEND;VALUE=DATE:20241026
DTSTAMP:20260424T075825
CREATED:20240815T011058Z
LAST-MODIFIED:20240815T011141Z
UID:46334-1729814400-1729900799@www.emiliaplater.org
SUMMARY:Liceum (kl. 9-11) ma WOLNE
DESCRIPTION:
URL:https://www.emiliaplater.org/event/liceum-kl-9-11-ma-wolne-3/
END:VEVENT
BEGIN:VEVENT
DTSTART;TZID=America/Chicago:20241025T170000
DTEND;TZID=America/Chicago:20241025T201500
DTSTAMP:20260424T075825
CREATED:20240911T132037Z
LAST-MODIFIED:20240911T132037Z
UID:46598-1729875600-1729887300@www.emiliaplater.org
SUMMARY:Zajęcia szkolne PIĄTEK
DESCRIPTION:
URL:https://www.emiliaplater.org/event/zajecia-szkolne-piatek-7/
LOCATION:Emilia Plater Polish School
END:VEVENT
BEGIN:VEVENT
DTSTART;TZID=America/Chicago:20241025T190000
DTEND;TZID=America/Chicago:20241025T200000
DTSTAMP:20260424T075825
CREATED:20241023T154256Z
LAST-MODIFIED:20241023T154614Z
UID:48077-1729882800-1729886400@www.emiliaplater.org
SUMMARY:Przyrzeczenie "0" PIĄTEK
DESCRIPTION:
URL:https://www.emiliaplater.org/event/przyrzeczenie-0/
LOCATION:Emilia Plater Polish School (Parish Center)\, 502 S Park Blvd\, Streamwood\, IL\, 60107-2100\, United States
END:VEVENT
BEGIN:VEVENT
DTSTART;TZID=America/Chicago:20241025T201500
DTEND;TZID=America/Chicago:20241025T210000
DTSTAMP:20260424T075825
CREATED:20240911T135118Z
LAST-MODIFIED:20240911T135118Z
UID:46673-1729887300-1729890000@www.emiliaplater.org
SUMMARY:Zajęcia religii PIĄTEK
DESCRIPTION:
URL:https://www.emiliaplater.org/event/zajecia-religii-piatek-8/
LOCATION:Emilia Plater Polish School
END:VEVENT
END:VCALENDAR