BEGIN:VCALENDAR
VERSION:2.0
PRODID:-//Emilia Plater Polish School - ECPv6.15.20//NONSGML v1.0//EN
CALSCALE:GREGORIAN
METHOD:PUBLISH
X-ORIGINAL-URL:https://www.emiliaplater.org
X-WR-CALDESC:Events for Emilia Plater Polish School
REFRESH-INTERVAL;VALUE=DURATION:PT1H
X-Robots-Tag:noindex
X-PUBLISHED-TTL:PT1H
BEGIN:VTIMEZONE
TZID:America/Chicago
BEGIN:DAYLIGHT
TZOFFSETFROM:-0600
TZOFFSETTO:-0500
TZNAME:CDT
DTSTART:20230312T080000
END:DAYLIGHT
BEGIN:STANDARD
TZOFFSETFROM:-0500
TZOFFSETTO:-0600
TZNAME:CST
DTSTART:20231105T070000
END:STANDARD
BEGIN:DAYLIGHT
TZOFFSETFROM:-0600
TZOFFSETTO:-0500
TZNAME:CDT
DTSTART:20240310T080000
END:DAYLIGHT
BEGIN:STANDARD
TZOFFSETFROM:-0500
TZOFFSETTO:-0600
TZNAME:CST
DTSTART:20241103T070000
END:STANDARD
BEGIN:DAYLIGHT
TZOFFSETFROM:-0600
TZOFFSETTO:-0500
TZNAME:CDT
DTSTART:20250309T080000
END:DAYLIGHT
BEGIN:STANDARD
TZOFFSETFROM:-0500
TZOFFSETTO:-0600
TZNAME:CST
DTSTART:20251102T070000
END:STANDARD
END:VTIMEZONE
BEGIN:VEVENT
DTSTART;VALUE=DATE:20240927
DTEND;VALUE=DATE:20240928
DTSTAMP:20260424T091853
CREATED:20240815T011021Z
LAST-MODIFIED:20240815T011021Z
UID:46330-1727395200-1727481599@www.emiliaplater.org
SUMMARY:Liceum (kl. 9-11) ma WOLNE
DESCRIPTION:
URL:https://www.emiliaplater.org/event/liceum-kl-9-11-ma-wolne/
END:VEVENT
BEGIN:VEVENT
DTSTART;TZID=America/Chicago:20240927T170000
DTEND;TZID=America/Chicago:20240927T173000
DTSTAMP:20260424T091853
CREATED:20240910T165541Z
LAST-MODIFIED:20240910T165541Z
UID:46517-1727456400-1727458200@www.emiliaplater.org
SUMMARY:Zebranie rodzicow klas 0-4
DESCRIPTION:Zebranie w klasie of godz 5:00pm-5:20pm\, a nastepnie zebranie ogolne w kafeterii szkolnej
URL:https://www.emiliaplater.org/event/zebranie-rodzicow-klas-0-4/
END:VEVENT
BEGIN:VEVENT
DTSTART;TZID=America/Chicago:20240927T170000
DTEND;TZID=America/Chicago:20240927T201500
DTSTAMP:20260424T091853
CREATED:20240911T131753Z
LAST-MODIFIED:20240911T131753Z
UID:46590-1727456400-1727468100@www.emiliaplater.org
SUMMARY:Zajęcia szkolne PIĄTEK
DESCRIPTION:
URL:https://www.emiliaplater.org/event/zajecia-szkolne-piatek-3/
LOCATION:Emilia Plater Polish School
END:VEVENT
END:VCALENDAR