BEGIN:VCALENDAR
VERSION:2.0
PRODID:-//Emilia Plater Polish School - ECPv6.15.20//NONSGML v1.0//EN
CALSCALE:GREGORIAN
METHOD:PUBLISH
X-ORIGINAL-URL:https://www.emiliaplater.org
X-WR-CALDESC:Events for Emilia Plater Polish School
REFRESH-INTERVAL;VALUE=DURATION:PT1H
X-Robots-Tag:noindex
X-PUBLISHED-TTL:PT1H
BEGIN:VTIMEZONE
TZID:America/Chicago
BEGIN:DAYLIGHT
TZOFFSETFROM:-0600
TZOFFSETTO:-0500
TZNAME:CDT
DTSTART:20230312T080000
END:DAYLIGHT
BEGIN:STANDARD
TZOFFSETFROM:-0500
TZOFFSETTO:-0600
TZNAME:CST
DTSTART:20231105T070000
END:STANDARD
BEGIN:DAYLIGHT
TZOFFSETFROM:-0600
TZOFFSETTO:-0500
TZNAME:CDT
DTSTART:20240310T080000
END:DAYLIGHT
BEGIN:STANDARD
TZOFFSETFROM:-0500
TZOFFSETTO:-0600
TZNAME:CST
DTSTART:20241103T070000
END:STANDARD
BEGIN:DAYLIGHT
TZOFFSETFROM:-0600
TZOFFSETTO:-0500
TZNAME:CDT
DTSTART:20250309T080000
END:DAYLIGHT
BEGIN:STANDARD
TZOFFSETFROM:-0500
TZOFFSETTO:-0600
TZNAME:CST
DTSTART:20251102T070000
END:STANDARD
END:VTIMEZONE
BEGIN:VEVENT
DTSTART;TZID=America/Chicago:20240920T170000
DTEND;TZID=America/Chicago:20240920T173000
DTSTAMP:20260424T091853
CREATED:20240910T170011Z
LAST-MODIFIED:20240910T170011Z
UID:46520-1726851600-1726853400@www.emiliaplater.org
SUMMARY:Zebranie rodziców klas 5-11
DESCRIPTION:Zebranie w klasie of godz 5:00pm-5:20pm\, a nastepnie zebranie ogolne w kafeterii szkolnej
URL:https://www.emiliaplater.org/event/zebranie-rodzicow-klas-5-11/
LOCATION:Emilia Plater Polish School
END:VEVENT
BEGIN:VEVENT
DTSTART;TZID=America/Chicago:20240920T170000
DTEND;TZID=America/Chicago:20240920T201500
DTSTAMP:20260424T091853
CREATED:20240911T131723Z
LAST-MODIFIED:20240911T131723Z
UID:46588-1726851600-1726863300@www.emiliaplater.org
SUMMARY:Zajęcia szkolne PIĄTEK
DESCRIPTION:
URL:https://www.emiliaplater.org/event/zajecia-szkolne-piatek-2/
LOCATION:Emilia Plater Polish School
END:VEVENT
BEGIN:VEVENT
DTSTART;TZID=America/Chicago:20240920T201500
DTEND;TZID=America/Chicago:20240920T210000
DTSTAMP:20260424T091853
CREATED:20240911T134853Z
LAST-MODIFIED:20240911T134853Z
UID:46661-1726863300-1726866000@www.emiliaplater.org
SUMMARY:Zajęcia religii PIĄTEK
DESCRIPTION:
URL:https://www.emiliaplater.org/event/zajecia-religii-piatek-2/
LOCATION:Emilia Plater Polish School
END:VEVENT
END:VCALENDAR