BEGIN:VCALENDAR
VERSION:2.0
PRODID:-//Emilia Plater Polish School - ECPv6.15.20//NONSGML v1.0//EN
CALSCALE:GREGORIAN
METHOD:PUBLISH
X-ORIGINAL-URL:https://www.emiliaplater.org
X-WR-CALDESC:Events for Emilia Plater Polish School
REFRESH-INTERVAL;VALUE=DURATION:PT1H
X-Robots-Tag:noindex
X-PUBLISHED-TTL:PT1H
BEGIN:VTIMEZONE
TZID:America/Chicago
BEGIN:DAYLIGHT
TZOFFSETFROM:-0600
TZOFFSETTO:-0500
TZNAME:CDT
DTSTART:20230312T080000
END:DAYLIGHT
BEGIN:STANDARD
TZOFFSETFROM:-0500
TZOFFSETTO:-0600
TZNAME:CST
DTSTART:20231105T070000
END:STANDARD
BEGIN:DAYLIGHT
TZOFFSETFROM:-0600
TZOFFSETTO:-0500
TZNAME:CDT
DTSTART:20240310T080000
END:DAYLIGHT
BEGIN:STANDARD
TZOFFSETFROM:-0500
TZOFFSETTO:-0600
TZNAME:CST
DTSTART:20241103T070000
END:STANDARD
BEGIN:DAYLIGHT
TZOFFSETFROM:-0600
TZOFFSETTO:-0500
TZNAME:CDT
DTSTART:20250309T080000
END:DAYLIGHT
BEGIN:STANDARD
TZOFFSETFROM:-0500
TZOFFSETTO:-0600
TZNAME:CST
DTSTART:20251102T070000
END:STANDARD
END:VTIMEZONE
BEGIN:VEVENT
DTSTART;TZID=America/Chicago:20240907T100000
DTEND;TZID=America/Chicago:20240907T110000
DTSTAMP:20260424T091853
CREATED:20240814T215041Z
LAST-MODIFIED:20240814T215041Z
UID:46296-1725703200-1725706800@www.emiliaplater.org
SUMMARY:Msza Szkolna Inaugurująca 50-lecie szkoły
DESCRIPTION:
URL:https://www.emiliaplater.org/event/msza-szkolna-inaugurujaca-50-lecie-szkoly/
LOCATION:St. John the Evangelist Church\, 502 S Park Blvd\, Streamwood\, IL\, 60107-2100\, United States
END:VEVENT
BEGIN:VEVENT
DTSTART;TZID=America/Chicago:20240907T110000
DTEND;TZID=America/Chicago:20240907T140000
DTSTAMP:20260424T091853
CREATED:20240814T192501Z
LAST-MODIFIED:20240814T214524Z
UID:46269-1725706800-1725717600@www.emiliaplater.org
SUMMARY:Piknik Szkolny
DESCRIPTION:Zapraszamy wszystkich uczniow z rodzinami na szkolny piknik z okazji 50- lecia naszej szkoly. Bedzie to oficjalny pierwszy dzien nowego roku szkolnego dla uczniow piatkowych i sobotnich. \nGry\, zabawy oraz darmowy lunch dla uczniow naszej szkoly!!! \n  \nDo zobaczenia
URL:https://www.emiliaplater.org/event/piknik-szkolny/
LOCATION:Emilia Plater Polish School (Parking)
ORGANIZER;CN="Emilia Plater Polish School":MAILTO:contact@emiliaplater.org
END:VEVENT
END:VCALENDAR